BEGIN:VCALENDAR
VERSION:2.0
PRODID:-// - ECPv6.15.20//NONSGML v1.0//EN
CALSCALE:GREGORIAN
METHOD:PUBLISH
X-ORIGINAL-URL:https://weingut-schuh.de
X-WR-CALDESC:Events for 
REFRESH-INTERVAL;VALUE=DURATION:PT1H
X-Robots-Tag:noindex
X-PUBLISHED-TTL:PT1H
BEGIN:VTIMEZONE
TZID:Europe/Berlin
BEGIN:DAYLIGHT
TZOFFSETFROM:+0100
TZOFFSETTO:+0200
TZNAME:CEST
DTSTART:20250330T010000
END:DAYLIGHT
BEGIN:STANDARD
TZOFFSETFROM:+0200
TZOFFSETTO:+0100
TZNAME:CET
DTSTART:20251026T010000
END:STANDARD
BEGIN:DAYLIGHT
TZOFFSETFROM:+0100
TZOFFSETTO:+0200
TZNAME:CEST
DTSTART:20260329T010000
END:DAYLIGHT
BEGIN:STANDARD
TZOFFSETFROM:+0200
TZOFFSETTO:+0100
TZNAME:CET
DTSTART:20261025T010000
END:STANDARD
BEGIN:DAYLIGHT
TZOFFSETFROM:+0100
TZOFFSETTO:+0200
TZNAME:CEST
DTSTART:20270328T010000
END:DAYLIGHT
BEGIN:STANDARD
TZOFFSETFROM:+0200
TZOFFSETTO:+0100
TZNAME:CET
DTSTART:20271031T010000
END:STANDARD
END:VTIMEZONE
BEGIN:VEVENT
DTSTART;TZID=Europe/Berlin:20260531T110000
DTEND;TZID=Europe/Berlin:20260531T160000
DTSTAMP:20260421T053325
CREATED:20231017T123714Z
LAST-MODIFIED:20260112T103757Z
UID:20706-1780225200-1780243200@weingut-schuh.de
SUMMARY:Große Weinbergwanderung am 31.05.2026 - AUSGEBUCHT
DESCRIPTION:Gemeinsam erkunden wir die Weinlagen Meißner Kapitelberg und Meißner Klausenberg – zwei unserer schönsten Hänge mit ganz eigenem Charakter.\nUnterwegs verkostest du sechs unserer Weine direkt dort\, wo sie wachsen und erfährst mehr über ihre Herkunft\, den Ausbau und die Besonderheiten der Lagen. \nEine Tour für alle\, die Wein und Natur gleichermaßen lieben – Wanderlust und Genuss vereint. \nBeginn: 11 Uhr\nDauer: ca. 5 Stunden\nTreffpunkt: Vinothek\, Zaschendorfer Straße 2\, 01640 Sörnewitz \nHier geht es zu den Tickets. \nBitte beachte: Aus Rücksicht auf andere Teilnehmende ist die Mitnahme von Haustieren nicht möglich. Teilnahme ab 16 Jahren. Wettergerechte Kleidung und festes Schuhwerk werden empfohlen. \nBei Stornierung oder Nichterscheinen besteht kein genereller Anspruch auf Rückerstattung des Kaufpreises. Sollte die Veranstaltung z.B. witterungsbedingt durch uns abgesagt werden\, werden wir dich kontaktieren und den Kaufpreis erstatten.
URL:https://weingut-schuh.de/event/grosse-weinbergwanderung-am-31-05-2026/
LOCATION:Weingut Schuh\, Zaschendorfer Straße 2\, Sörnewitz\, 01640
CATEGORIES:Wanderung
ATTACH;FMTTYPE=image/jpeg:https://weingut-schuh.de/wp-content/uploads/2025/11/2025.05.24-Weinberg_Keller©pctrbrln.com-33-scaled.jpg
END:VEVENT
BEGIN:VEVENT
DTSTART;TZID=Europe/Berlin:20260605T180000
DTEND;TZID=Europe/Berlin:20260607T190000
DTSTAMP:20260421T053325
CREATED:20250113T092825Z
LAST-MODIFIED:20260415T113313Z
UID:23319-1780682400-1780858800@weingut-schuh.de
SUMMARY:WINESTOCK - Love\, Peace & Winefest 2026
DESCRIPTION:Freitag\, 5. Juni 2026\nab 18 Uhr Gekühlte Getränke\, Leckereien aus der Gutsküche und Musik für gute Laune\nab 19 Uhr 80er Videodisco mit DJ Stephan Gold – Die größten Hits & Kultvideos zum Mitfeiern \nSamstag 6. Juni 2026\nab 16 Uhr Gekühlte Getränke\, Leckereien aus der Gutsküche und Musik für gute Laune\nab 19 Uhr Livemusik mit Die Winestocker – Meißner Gartenband im Woodstock Fieber \nSonntag 7. Juni 2026\nab 12 Uhr Gekühlte Getränke\, Leckereien aus der Gutsküche und Musik für gute Laune\n14 – 18 Uhr Livemusik mit Retroskop – Partystimmung mit den besten Oldies\nFestende gegen 19 Uhr \n  \n 
URL:https://weingut-schuh.de/event/winestock-love-peace-winefest-2026/
LOCATION:Weingut Schuh\, Zaschendorfer Straße 2\, Sörnewitz\, 01640
CATEGORIES:Weinfeste
ATTACH;FMTTYPE=image/jpeg:https://weingut-schuh.de/wp-content/uploads/2026/03/WineStock-2026-1920x1080-1.jpg
END:VEVENT
BEGIN:VEVENT
DTSTART;TZID=Europe/Berlin:20260613T150000
DTEND;TZID=Europe/Berlin:20260613T230000
DTSTAMP:20260421T053325
CREATED:20260225T090700Z
LAST-MODIFIED:20260416T074812Z
UID:27559-1781362800-1781391600@weingut-schuh.de
SUMMARY:Vinotechno '26 - Electro Open Air im Weinberg - AUSGEBUCHT
DESCRIPTION:Elektronische Musik\, Wein und feinstes Essen – Ein unvergessliches Erlebnis! \nErlebe das einzigartige Zusammenspiel von pulsierendem Electro\, kühlem Wein und kulinarischen Genüssen inmitten der malerischen Atmosphäre des Spaargebirges! \nDatum: 13.06.2025\nUhrzeit: 15.00 – 23.00 Uhr\nOrt: Klausenberg Meißen \nLass dich von den besten DJs der Szene auf eine musikalische Reise entführen\, während du inmitten der sanften Hügel des Weinbergs den Moment genießt. Der Klang von kraftvollem Electro trifft auf die unvergleichliche Natur des Elbtals.\nNeben der Musik wartet eine exklusive Auswahl an Weinen – aber natürlich auch Bier und Longdrinks. Und für das leibliche Wohl ist auch bestens gesorgt – mit feinstem Essen aus dem Smoker\, das perfekt zum Ambiente passt. \nHighlights: \n• Techno Beats: Die besten DJs für ein unvergessliches Event\n• Kulinarisches Angebot: Genusserlebnisse aus der regionalen Küche\n• Open-Air Atmosphäre: Feiere unter freiem Himmel\, umgeben von Weinbergen \nOb du ein leidenschaftlicher Electro-Fan\, Weinliebhaber oder Feinschmecker bist – das Vinotechno-Open Air im Weinberg wird dich begeistern!\nSichere dir jetzt dein Ticket und sei dabei bei diesem einzigartigen Event.\nBitte beachte: der Zugang zum Weinberg kann ausschließlich zu Fuß erfolgen\, wir empfehlen aufgrund sehr begrenzter Parkmöglichkeiten im Umkreis mit öffentlichen Verkehrsmitteln anzureisen. \n\n\nVorverkauf ab 22. März 2026\, 15 Uhr HIER
URL:https://weingut-schuh.de/event/vinotechno-26-electro-open-air-im-weinberg/
LOCATION:Meißner Klausenberg
ATTACH;FMTTYPE=image/jpeg:https://weingut-schuh.de/wp-content/uploads/2026/02/Vinotechno-26-Header-ticket.io_-scaled.jpg
END:VEVENT
BEGIN:VEVENT
DTSTART;TZID=Europe/Berlin:20260621T090000
DTEND;TZID=Europe/Berlin:20260621T123000
DTSTAMP:20260421T053325
CREATED:20241111T085604Z
LAST-MODIFIED:20260120T113524Z
UID:22933-1782032400-1782045000@weingut-schuh.de
SUMMARY:Yoga-Weinbergwanderung am 21.06.2026 - AUSGEBUCHT
DESCRIPTION:Gönn dir eine kleine Auszeit und wandere achtsam mit uns durch die Weinberge des Spaargebirges.\nUnterwegs erfährst du Wissenswertes rund um unser Weingut und das Anbaugebiet Sachsen\, während wir immer wieder innehalten\, tief durchatmen und mit sanften Yoga-Impulsen unsere Sinne schärfen. \nBegleitet wirst du von Jacqueline Altmann\, Yogalehrerin im Team Herrlich (Meißen/Radeberg).\nVorkenntnisse im Yoga sind nicht nötig – wichtig ist nur die Freude am bewussten Erleben. \nZum Abschluss genießen wir gemeinsam ein Glas unseres hauseigenen Secco – ein genussvolles Rendezvous mit dir selbst und der Natur. \nBeginn: 9 Uhr\nDauer: ca. 3-4 Stunden\nStrecke: ca. 6\,5 km\nTreffpunkt: Vinothek\, Zaschendorfer Straße 2\, 01640 Sörnewitz \nHier geht es zu den Tickets. \nBitte beachte: Aus Rücksicht auf andere Teilnehmende ist die Mitnahme von Haustieren nicht möglich. Teilnahme ab 16 Jahren. Bequeme Kleidung wird empfohlen\, Sportkleidung ist nicht nötig. Eine Yogamatte wird nicht benötigt\, eine Sitzunterlage ist jedoch empfehlenswert. \nBei Stornierung oder Nichterscheinen besteht kein genereller Anspruch auf Rückerstattung des Kaufpreises. Sollte die Veranstaltung z.B. witterungsbedingt durch uns abgesagt werden\, werden wir dich kontaktieren und den Kaufpreis erstatten.
URL:https://weingut-schuh.de/event/yoga-weinbergwanderung-am-21-06-2026/
LOCATION:Weingut Schuh\, Zaschendorfer Straße 2\, Sörnewitz\, 01640
CATEGORIES:Wanderung + Yoga
ATTACH;FMTTYPE=image/jpeg:https://weingut-schuh.de/wp-content/uploads/2023/10/yoga-weinbergwanderung_1920x1920.jpg
END:VEVENT
BEGIN:VEVENT
DTSTART;TZID=Europe/Berlin:20260828T180000
DTEND;TZID=Europe/Berlin:20260830T180000
DTSTAMP:20260421T053325
CREATED:20250120T135713Z
LAST-MODIFIED:20260210T132120Z
UID:23381-1787940000-1788112800@weingut-schuh.de
SUMMARY:Tage des offenen Weingutes 28.-30. August 2026
DESCRIPTION:Freitag 28. August 2026\nab 18 Uhr gekühlte Getränke und frische Grillgerichte\nab 19 Uhr Sunset Session  – elektronische DJ-Sounds für den Start ins Wochenende \nSamstag 29. August 2026\nab 12 Uhr Essen\, Getränke und gute Laune\n15 Uhr Betriebsführung\n17 – 22 Uhr ROCK´n´ROLL Livemusik mit den Elbonautics \nSonntag 30. August 2026\nab 12 Uhr Essen\, Getränke und gute Laune\n15 Uhr Betriebsführung\n14 – 18 Uhr Livemusik mit Swing Along aus Weinböhla \nAlle Informationen zur Veranstaltung finden Sie hier.
URL:https://weingut-schuh.de/event/tage-des-offenen-weingutes-28-30-august-2026/
LOCATION:Hof der Vinothek\, Zaschendorfer Straße 2\, Sörnewitz\, Sachsen\, Deutschland
CATEGORIES:Ausschank,Weinfeste
END:VEVENT
BEGIN:VEVENT
DTSTART;TZID=Europe/Berlin:20261004T130000
DTEND;TZID=Europe/Berlin:20261004T170000
DTSTAMP:20260421T053325
CREATED:20241111T084548Z
LAST-MODIFIED:20251125T092139Z
UID:22928-1791118800-1791133200@weingut-schuh.de
SUMMARY:Kräuter-Weinwanderung am 04.10.2026
DESCRIPTION:Gemütlichen Schrittes erkunden wir gemeinsam den Meißner Kapitelberg und tauchen dabei nicht nur in die Welt des Weins\, sondern auch in die wunderbare Vielfalt heimischer Wildkräuter ein. \nKräuterkundlerin Christina Riedel zeigt dir unterwegs\, welche essbaren Schätze der Natur uns begegnen und was sie so besonders macht. \nBegleitet wird unsere Tour von der Verkostung vierer Weine sowie zwei feinen Kräutersnacks\, die perfekt dazu passen. Zum Abschluss genießen wir auf dem Boselfelsen den weiten Blick über das Elbtal – ein Moment zum Durchatmen\, Entdecken und Genießen. \nBeginn: 13 Uhr\nDauer: ca. 4 Stunden\nTreffpunkt: Vinothek\, Zaschendorfer Straße 2\, 01640 Sörnewitz \nHier geht es zu den Tickets. \nBitte beachte: Aus Rücksicht auf andere Teilnehmende ist die Mitnahme von Haustieren nicht möglich. Teilnahme ab 16 Jahren. Wettergerechte Kleidung und festes Schuhwerk werden empfohlen. \nBei Stornierung oder Nichterscheinen besteht kein genereller Anspruch auf Rückerstattung des Kaufpreises. Sollte die Veranstaltung z.B. witterungsbedingt durch uns abgesagt werden\, werden wir dich kontaktieren und den Kaufpreis erstatten.
URL:https://weingut-schuh.de/event/kraeuter-weinwanderung-am-04-10-2026/
LOCATION:Weingut Schuh\, Zaschendorfer Straße 2\, Sörnewitz\, 01640
CATEGORIES:Wanderung
ATTACH;FMTTYPE=image/jpeg:https://weingut-schuh.de/wp-content/uploads/2023/10/Kraeuter-Weinbergrwanderun-1_1920x1920.jpg
END:VEVENT
BEGIN:VEVENT
DTSTART;TZID=Europe/Berlin:20261114T130000
DTEND;TZID=Europe/Berlin:20261114T150000
DTSTAMP:20260421T053325
CREATED:20221013T082429Z
LAST-MODIFIED:20260302T093706Z
UID:16350-1794661200-1794668400@weingut-schuh.de
SUMMARY:Kellergeflüster am 14.11.2026 - AUSGEBUCHT
DESCRIPTION:Beim Kellergeflüster bekommst du einen ganz besonderen Einblick hinter die Kulissen unserer Weinherstellung.\nGanz entspannt zeigen dir Matthias oder Holger\, wo unsere Weine entstehen\, wie wir arbeiten und was uns dabei besonders am Herzen liegt.\nNatürlich darf der Genuss dabei nicht zu kurz kommen – gemeinsam verkosten wir vier unserer Weine und plaudern über das\, was Wein so einzigartig macht. \nEine gemütliche\, genussvolle Entdeckungstour für alle\, die Wein mit allen Sinnen erleben möchten. \nBeginn: 13 Uhr\nDauer: ca. 2 Stunden\nTreffpunkt: Vinothek\, Zaschendorfer Straße 2\, 01640 Sörnewitz \nHier geht es zu den Tickets. \nBitte beachte: Aus Rücksicht auf andere Teilnehmende ist die Mitnahme von Haustieren nicht möglich. Teilnahme ab 16 Jahren. \nBei Stornierung oder Nichterscheinen besteht kein genereller Anspruch auf Rückerstattung des Kaufpreises. Sollte die Veranstaltung z.B. witterungsbedingt durch uns abgesagt werden\, werden wir dich kontaktieren und den Kaufpreis erstatten.
URL:https://weingut-schuh.de/event/kellergefluester-am-14-11-2026/
LOCATION:Weingut Schuh\, Zaschendorfer Straße 2\, Sörnewitz\, 01640
CATEGORIES:Kellereiführung
ATTACH;FMTTYPE=image/jpeg:https://weingut-schuh.de/wp-content/uploads/2025/11/2025.05.24-Weinberg_Keller©pctrbrln.com-38-scaled.jpg
END:VEVENT
BEGIN:VEVENT
DTSTART;TZID=Europe/Berlin:20261115T130000
DTEND;TZID=Europe/Berlin:20261115T150000
DTSTAMP:20260421T053325
CREATED:20221013T082601Z
LAST-MODIFIED:20251125T092129Z
UID:16352-1794747600-1794754800@weingut-schuh.de
SUMMARY:Kellergeflüster am 15.11.2026
DESCRIPTION:Beim Kellergeflüster bekommst du einen ganz besonderen Einblick hinter die Kulissen unserer Weinherstellung.\nGanz entspannt zeigen dir Matthias oder Holger\, wo unsere Weine entstehen\, wie wir arbeiten und was uns dabei besonders am Herzen liegt.\nNatürlich darf der Genuss dabei nicht zu kurz kommen – gemeinsam verkosten wir vier unserer Weine und plaudern über das\, was Wein so einzigartig macht. \nEine gemütliche\, genussvolle Entdeckungstour für alle\, die Wein mit allen Sinnen erleben möchten. \nBeginn: 13 Uhr\nDauer: ca. 2 Stunden\nTreffpunkt: Vinothek\, Zaschendorfer Straße 2\, 01640 Sörnewitz \nHier geht es zu den Tickets. \nBitte beachte: Aus Rücksicht auf andere Teilnehmende ist die Mitnahme von Haustieren nicht möglich. Teilnahme ab 16 Jahren. \nBei Stornierung oder Nichterscheinen besteht kein genereller Anspruch auf Rückerstattung des Kaufpreises. Sollte die Veranstaltung z.B. witterungsbedingt durch uns abgesagt werden\, werden wir dich kontaktieren und den Kaufpreis erstatten.
URL:https://weingut-schuh.de/event/kellergefluester-am-15-11-2026/
LOCATION:Weingut Schuh\, Zaschendorfer Straße 2\, Sörnewitz\, 01640
ATTACH;FMTTYPE=image/jpeg:https://weingut-schuh.de/wp-content/uploads/2025/11/2025.05.24-Weinberg_Keller©pctrbrln.com-38-scaled.jpg
END:VEVENT
END:VCALENDAR