BEGIN:VCALENDAR
VERSION:2.0
PRODID:-// - ECPv6.15.20//NONSGML v1.0//EN
CALSCALE:GREGORIAN
METHOD:PUBLISH
X-ORIGINAL-URL:https://weingut-schuh.de
X-WR-CALDESC:Events for 
REFRESH-INTERVAL;VALUE=DURATION:PT1H
X-Robots-Tag:noindex
X-PUBLISHED-TTL:PT1H
BEGIN:VTIMEZONE
TZID:Europe/Berlin
BEGIN:DAYLIGHT
TZOFFSETFROM:+0100
TZOFFSETTO:+0200
TZNAME:CEST
DTSTART:20200329T010000
END:DAYLIGHT
BEGIN:STANDARD
TZOFFSETFROM:+0200
TZOFFSETTO:+0100
TZNAME:CET
DTSTART:20201025T010000
END:STANDARD
BEGIN:DAYLIGHT
TZOFFSETFROM:+0100
TZOFFSETTO:+0200
TZNAME:CEST
DTSTART:20210328T010000
END:DAYLIGHT
BEGIN:STANDARD
TZOFFSETFROM:+0200
TZOFFSETTO:+0100
TZNAME:CET
DTSTART:20211031T010000
END:STANDARD
BEGIN:DAYLIGHT
TZOFFSETFROM:+0100
TZOFFSETTO:+0200
TZNAME:CEST
DTSTART:20220327T010000
END:DAYLIGHT
BEGIN:STANDARD
TZOFFSETFROM:+0200
TZOFFSETTO:+0100
TZNAME:CET
DTSTART:20221030T010000
END:STANDARD
BEGIN:DAYLIGHT
TZOFFSETFROM:+0100
TZOFFSETTO:+0200
TZNAME:CEST
DTSTART:20230326T010000
END:DAYLIGHT
BEGIN:STANDARD
TZOFFSETFROM:+0200
TZOFFSETTO:+0100
TZNAME:CET
DTSTART:20231029T010000
END:STANDARD
BEGIN:DAYLIGHT
TZOFFSETFROM:+0100
TZOFFSETTO:+0200
TZNAME:CEST
DTSTART:20240331T010000
END:DAYLIGHT
BEGIN:STANDARD
TZOFFSETFROM:+0200
TZOFFSETTO:+0100
TZNAME:CET
DTSTART:20241027T010000
END:STANDARD
END:VTIMEZONE
BEGIN:VEVENT
DTSTART;TZID=Europe/Berlin:20230203T080000
DTEND;TZID=Europe/Berlin:20230203T170000
DTSTAMP:20260421T070616
CREATED:20220823T064210Z
LAST-MODIFIED:20230110T084421Z
UID:14829-1675411200-1675443600@weingut-schuh.de
SUMMARY:Wine & Dine Kraut- und Rübenzeit (ausgebucht)
DESCRIPTION:Kulinarischer Weinabend mit 4-Gang Menü im Weinrestaurant.\nIncl. Weinbegleitung\, Mineralwasser & Heißgetränk\nIm Vorverkauf über martina@weingut-schuh.de
URL:https://weingut-schuh.de/event/wine-dine-kraut-und-ruebenzeit/
LOCATION:Restaurant im Weingut\, Dresdner Straße 314\, Coswig\, 01640\, Deutschland
CATEGORIES:Genuss im Restaurant
END:VEVENT
BEGIN:VEVENT
DTSTART;TZID=Europe/Berlin:20221218T130000
DTEND;TZID=Europe/Berlin:20221218T160000
DTSTAMP:20260421T070616
CREATED:20221102T122255Z
LAST-MODIFIED:20221102T122255Z
UID:16782-1671368400-1671379200@weingut-schuh.de
SUMMARY:Sörnewitzer Glühunterschlupf 18.12.2022
DESCRIPTION:Genießen Sie im gemütlichen Hof einen heißen Schuh oder Glühaperol\,währenddessen können die Kleinen ums Feuer tanzen und ihren Knüppelkuchen garen. \nNach einer Wanderung zur Bosel einmal kurz aufwärmen und die Winterluft genießenmit leuchtenden Sternen im Hintergrund.
URL:https://weingut-schuh.de/event/soernewitzer-gluehunterschlupf-18-12-2022/
LOCATION:Hof der Vinothek\, Zaschendorfer Straße 2\, Sörnewitz\, Sachsen\, Deutschland
CATEGORIES:Gemütliches Zusammenkommen bei heißem Schuh und Feuerchen,Knüppelkuchen für die Kleinen
ATTACH;FMTTYPE=image/jpeg:https://weingut-schuh.de/wp-content/uploads/2022/11/Hoffeuerchen.jpg
END:VEVENT
BEGIN:VEVENT
DTSTART;TZID=Europe/Berlin:20221217T130000
DTEND;TZID=Europe/Berlin:20221217T160000
DTSTAMP:20260421T070616
CREATED:20221102T122129Z
LAST-MODIFIED:20221102T122129Z
UID:16780-1671282000-1671292800@weingut-schuh.de
SUMMARY:Sörnewitzer Glühunterschlupf 17.12.2022
DESCRIPTION:Genießen Sie im gemütlichen Hof einen heißen Schuh oder Glühaperol\,währenddessen können die Kleinen ums Feuer tanzen und ihren Knüppelkuchen garen. \nNach einer Wanderung zur Bosel einmal kurz aufwärmen und die Winterluft genießenmit leuchtenden Sternen im Hintergrund.
URL:https://weingut-schuh.de/event/soernewitzer-gluehunterschlupf-17-12-2022/
LOCATION:Hof der Vinothek\, Zaschendorfer Straße 2\, Sörnewitz\, Sachsen\, Deutschland
CATEGORIES:Gemütliches Zusammenkommen bei heißem Schuh und Feuerchen,Knüppelkuchen für die Kleinen
ATTACH;FMTTYPE=image/jpeg:https://weingut-schuh.de/wp-content/uploads/2022/11/Hoffeuerchen.jpg
END:VEVENT
BEGIN:VEVENT
DTSTART;TZID=Europe/Berlin:20221211T130000
DTEND;TZID=Europe/Berlin:20221211T160000
DTSTAMP:20260421T070616
CREATED:20221102T121951Z
LAST-MODIFIED:20221102T122001Z
UID:16778-1670763600-1670774400@weingut-schuh.de
SUMMARY:Sörnewitzer Glühunterschlupf 11.12.2022
DESCRIPTION:Genießen Sie im gemütlichen Hof einen heißen Schuh oder Glühaperol\,währenddessen können die Kleinen ums Feuer tanzen und ihren Knüppelkuchen garen. \nNach einer Wanderung zur Bosel einmal kurz aufwärmen und die Winterluft genießenmit leuchtenden Sternen im Hintergrund.
URL:https://weingut-schuh.de/event/soernewitzer-gluehunterschlupf-11-12-2022/
LOCATION:Hof der Vinothek\, Zaschendorfer Straße 2\, Sörnewitz\, Sachsen\, Deutschland
CATEGORIES:Gemütliches Zusammenkommen bei heißem Schuh und Feuerchen,Knüppelkuchen für die Kleinen
ATTACH;FMTTYPE=image/jpeg:https://weingut-schuh.de/wp-content/uploads/2022/11/Hoffeuerchen.jpg
END:VEVENT
BEGIN:VEVENT
DTSTART;TZID=Europe/Berlin:20221210T130000
DTEND;TZID=Europe/Berlin:20221210T160000
DTSTAMP:20260421T070616
CREATED:20221102T121850Z
LAST-MODIFIED:20221102T121850Z
UID:16776-1670677200-1670688000@weingut-schuh.de
SUMMARY:Sörnewitzer Glühunterschlupf 10.12.2022
DESCRIPTION:Genießen Sie im gemütlichen Hof einen heißen Schuh oder Glühaperol\,währenddessen können die Kleinen ums Feuer tanzen und ihren Knüppelkuchen garen. \nNach einer Wanderung zur Bosel einmal kurz aufwärmen und die Winterluft genießenmit leuchtenden Sternen im Hintergrund.
URL:https://weingut-schuh.de/event/soernewitzer-gluehunterschlupf-10-12-2022/
LOCATION:Hof der Vinothek\, Zaschendorfer Straße 2\, Sörnewitz\, Sachsen\, Deutschland
CATEGORIES:Gemütliches Zusammenkommen bei heißem Schuh und Feuerchen,Knüppelkuchen für die Kleinen
ATTACH;FMTTYPE=image/jpeg:https://weingut-schuh.de/wp-content/uploads/2022/11/Hoffeuerchen.jpg
END:VEVENT
BEGIN:VEVENT
DTSTART;TZID=Europe/Berlin:20221204T130000
DTEND;TZID=Europe/Berlin:20221204T160000
DTSTAMP:20260421T070616
CREATED:20221102T121750Z
LAST-MODIFIED:20221102T121750Z
UID:16774-1670158800-1670169600@weingut-schuh.de
SUMMARY:Sörnewitzer Glühunterschlupf 4.12.2022
DESCRIPTION:Genießen Sie im gemütlichen Hof einen heißen Schuh oder Glühaperol\,währenddessen können die Kleinen ums Feuer tanzen und ihren Knüppelkuchen garen. \nNach einer Wanderung zur Bosel einmal kurz aufwärmen und die Winterluft genießenmit leuchtenden Sternen im Hintergrund.
URL:https://weingut-schuh.de/event/soernewitzer-gluehunterschlupf-4-12-2022/
LOCATION:Hof der Vinothek\, Zaschendorfer Straße 2\, Sörnewitz\, Sachsen\, Deutschland
CATEGORIES:Gemütliches Zusammenkommen bei heißem Schuh und Feuerchen,Knüppelkuchen für die Kleinen
ATTACH;FMTTYPE=image/jpeg:https://weingut-schuh.de/wp-content/uploads/2022/11/Hoffeuerchen.jpg
END:VEVENT
BEGIN:VEVENT
DTSTART;TZID=Europe/Berlin:20221203T080000
DTEND;TZID=Europe/Berlin:20221203T160000
DTSTAMP:20260421T070616
CREATED:20221102T121222Z
LAST-MODIFIED:20221102T121657Z
UID:16767-1670054400-1670083200@weingut-schuh.de
SUMMARY:Sörnewitzer Glühunterschlupf 3.12.2022
DESCRIPTION:Genießen Sie im gemütlichen Hof einen heißen Schuh oder Glühaperol\,währenddessen können die Kleinen ums Feuer tanzen und ihren Knüppelkuchen garen. \nNach einer Wanderung zur Bosel einmal kurz aufwärmen und die Winterluft genießenmit leuchtenden Sternen im Hintergrund.
URL:https://weingut-schuh.de/event/soernewitzer-gluehunterschlupf-3-12-2022/
LOCATION:Hof der Vinothek\, Zaschendorfer Straße 2\, Sörnewitz\, Sachsen\, Deutschland
CATEGORIES:Gemütliches Zusammenkommen bei heißem Schuh und Feuerchen,Knüppelkuchen für die Kleinen
ATTACH;FMTTYPE=image/jpeg:https://weingut-schuh.de/wp-content/uploads/2022/11/Hoffeuerchen.jpg
END:VEVENT
BEGIN:VEVENT
DTSTART;TZID=Europe/Berlin:20221127T130000
DTEND;TZID=Europe/Berlin:20221127T160000
DTSTAMP:20260421T070616
CREATED:20221102T121609Z
LAST-MODIFIED:20221102T121609Z
UID:16771-1669554000-1669564800@weingut-schuh.de
SUMMARY:Sörnewitzer Glühunterschlupf 27.11.2022
DESCRIPTION:Genießen Sie im gemütlichen Hof einen heißen Schuh oder Glühaperol\,währenddessen können die Kleinen ums Feuer tanzen und ihren Knüppelkuchen garen. \nNach einer Wanderung zur Bosel einmal kurz aufwärmen und die Winterluft genießenmit leuchtenden Sternen im Hintergrund.
URL:https://weingut-schuh.de/event/soernewitzer-gluehunterschlupf-27-11-2022/
LOCATION:Hof der Vinothek\, Zaschendorfer Straße 2\, Sörnewitz\, Sachsen\, Deutschland
CATEGORIES:Gemütliches Zusammenkommen bei heißem Schuh und Feuerchen,Knüppelkuchen für die Kleinen
ATTACH;FMTTYPE=image/jpeg:https://weingut-schuh.de/wp-content/uploads/2022/11/Hoffeuerchen.jpg
END:VEVENT
BEGIN:VEVENT
DTSTART;TZID=Europe/Berlin:20221126T130000
DTEND;TZID=Europe/Berlin:20221126T160000
DTSTAMP:20260421T070616
CREATED:20221102T120734Z
LAST-MODIFIED:20221102T121507Z
UID:16761-1669467600-1669478400@weingut-schuh.de
SUMMARY:Sörnewitzer Glühunterschlupf 26.11.2022
DESCRIPTION:Genießen Sie im gemütlichen Hof einen heißen Schuh oder Glühaperol\,währenddessen können die Kleinen ums Feuer tanzen und ihren Knüppelkuchen garen. \nNach einer Wanderung zur Bosel einmal kurz aufwärmen und die Winterluft genießenmit leuchtenden Sternen im Hintergrund.
URL:https://weingut-schuh.de/event/soernewitzer-gluehunterschlupf-26-11-2022/
LOCATION:Hof der Vinothek\, Zaschendorfer Straße 2\, Sörnewitz\, Sachsen\, Deutschland
CATEGORIES:Gemütliches Zusammenkommen bei heißem Schuh und Feuerchen,Knüppelkuchen für die Kleinen
ATTACH;FMTTYPE=image/jpeg:https://weingut-schuh.de/wp-content/uploads/2022/11/Hoffeuerchen.jpg
END:VEVENT
BEGIN:VEVENT
DTSTART;TZID=Europe/Berlin:20221119T173000
DTEND;TZID=Europe/Berlin:20221119T220000
DTSTAMP:20260421T070616
CREATED:20220919T093154Z
LAST-MODIFIED:20220921T102358Z
UID:15698-1668879000-1668895200@weingut-schuh.de
SUMMARY:Große Glühweinverkostung - unser Highlight!
DESCRIPTION:Große Glühweinverkostung – unser Highlight! \nSa. 19.11.2022 18-22 Uhr\nEinlass: 17.30 Uhr\, Beginn: 18.15 Uhr\nEintrittspreis 34\,95 € pro Person (Veranstaltung im Außenbereich)\nVerkostung von mind. 6 verschiedener Glühweine und Heißgetränke
URL:https://weingut-schuh.de/event/grosse-gluehweinverkostung-unser-highlight/
LOCATION:Flack’s GetränkeFeinkost & Vinothek\, Hoflößnitzstraße3\, Radebeul\, Sachsen\, 01445\, Deutschland
CATEGORIES:Ausschank
END:VEVENT
BEGIN:VEVENT
DTSTART;TZID=Europe/Berlin:20221112T170000
DTEND;TZID=Europe/Berlin:20221112T170000
DTSTAMP:20260421T070616
CREATED:20171010T134827Z
LAST-MODIFIED:20221004T074700Z
UID:1519-1668272400-1668272400@weingut-schuh.de
SUMMARY:Kellergeflüster (ausgebucht)
DESCRIPTION:Wagt mit uns einen Blick hinter die Kulissen und lernt dabei die Welt der Weinherstellung näher kennen. Wir zeigen euch\, wo unsere Weine entstehen und wie wir arbeiten. Natürlich verraten wir euch bei dieser besonderen Betriebsführung auch\, was uns dabei wichtig ist und verkosten mit euch. \nLeider schon ausgebucht. Wir freuen uns auf 2023.
URL:https://weingut-schuh.de/event/kellergefluester-4/
LOCATION:Weingut Schuh\, Zaschendorfer Straße 2\, Sörnewitz\, 01640
CATEGORIES:Kellereiführung
ATTACH;FMTTYPE=image/jpeg:https://weingut-schuh.de/wp-content/uploads/2016/05/Kellergefluester.jpg
END:VEVENT
BEGIN:VEVENT
DTSTART;TZID=Europe/Berlin:20221111T170000
DTEND;TZID=Europe/Berlin:20221111T190000
DTSTAMP:20260421T070616
CREATED:20200605T060832Z
LAST-MODIFIED:20221004T074636Z
UID:6622-1668186000-1668193200@weingut-schuh.de
SUMMARY:Kellergeflüster (ausgebucht)
DESCRIPTION:Wagt mit uns einen Blick hinter die Kulissen und lernt dabei die Welt der Weinherstellung näher kennen. Matthias zeigt euch\, wo unsere Weine entstehen und wie wir arbeiten. Natürlich verraten wir euch bei dieser besonderen Betriebsführung auch\, was uns dabei wichtig ist. Natürlich verkosten wir auch Weine mit euch. \nTICKETS gleich buchen oder ALTERNATIVTERMIN auswählen
URL:https://weingut-schuh.de/event/kellergefluester-12/
LOCATION:Weingut Schuh\, Zaschendorfer Straße 2\, Sörnewitz\, 01640
CATEGORIES:Kellereiführung
ATTACH;FMTTYPE=image/jpeg:https://weingut-schuh.de/wp-content/uploads/2019/12/2020.04.21-Reben_Neu_Tag-VI_canon-®Marvin-Pelny-104-scaled.jpg
END:VEVENT
BEGIN:VEVENT
DTSTART;TZID=Europe/Berlin:20220901T170000
DTEND;TZID=Europe/Berlin:20220901T200000
DTSTAMP:20260421T070616
CREATED:20211220T150031Z
LAST-MODIFIED:20220313T090059Z
UID:8501-1662051600-1662062400@weingut-schuh.de
SUMMARY:Elbwiesen-Kräuterspaziergang mit 3-Gang Menü
DESCRIPTION:Wir begrüßen euch mit einem Glas Secco an unserer Vinothek.\nDanach startet Kräuterkundlerin Christina Riedel mit euch zu einem kleinen Spaziergang an den Elbwiesen.\nHier wird sie viel Wissenswertes zu den essbaren Schätzen am Wegesrand erklären und hält auch eine kleine Kräuterüberraschung bereit.\nAnschließend erwarten euch Martina und Aaron im Weinrestaurant mit einem 3-Gang Kräutermenü.\nAus Rücksicht auf andere Teilnehmer ist die Teilnahme mit Haustier nicht möglich.\nTeilnahme ab 16 Jahren\nBeginn: 17 Uhr\nDauer: 3-4 Stunden\nStartpunkt: Vinothek Zaschendorfer Straße 2\, 01640 Sörnewitz \nLeider schon ausgebucht. Wir freuen uns auf 2023.
URL:https://weingut-schuh.de/event/elbwiesen-kraeuterspaziergang-mit-3-gang-menue-3/
LOCATION:Weingut Schuh\, Zaschendorfer Straße 2\, Sörnewitz\, 01640
END:VEVENT
BEGIN:VEVENT
DTSTART;TZID=Europe/Berlin:20220827T140000
DTEND;TZID=Europe/Berlin:20220828T190000
DTSTAMP:20260421T070616
CREATED:20220720T131151Z
LAST-MODIFIED:20220801T070644Z
UID:13237-1661608800-1661713200@weingut-schuh.de
SUMMARY:Tage des offenen Weingutes 2022
DESCRIPTION:Zum 23. Mal finden am letzten Augustwochenende die Tage des offenen Weingutes statt\, natürlich sind auch wir wieder mit dabei!\nBei uns findet Ihr an beiden Tagen jeweils von 14 – 19 Uhr beschwingte Stimmung bei Dixie und Jazz mit Livemusik von “Swing Along” aus Weinböhla. \nJeweils um 15 Uhr könnt ihr Matthias bei einem kleinen Betriebsrundgang über die Schulter schauen. \nMartina und ihr Team sorgen für die kulinarische Versorgung und Katharina\, Matthias und das ganze Schuh-Team für die vollen Gläser. \nDas Programm aller Winzer findet ihr hier: www.dresden-elbland.de/programm-offenes-weingut \nFür eine einfache Anreise findet ihr hier alle Teilnehmer vermerkt: \n \nHier sind alle Teilnehmer sowie Haltestellen des Sonderbusses\, aber auch andere Anreisemöglichkeiten mit dem ÖPNV eingezeichnet.
URL:https://weingut-schuh.de/event/tage-des-offenen-weingutes-2022/
LOCATION:Weingut Schuh\, Zaschendorfer Straße 2\, Sörnewitz\, 01640
END:VEVENT
BEGIN:VEVENT
DTSTART;TZID=Europe/Berlin:20220625T100000
DTEND;TZID=Europe/Berlin:20220625T123000
DTSTAMP:20260421T070616
CREATED:20171010T092310Z
LAST-MODIFIED:20220313T090350Z
UID:1502-1656151200-1656160200@weingut-schuh.de
SUMMARY:Weinbergsspaziergang
DESCRIPTION:Gemächlichen Schrittes erkunden wir mit euch den Weinberg in der bekannten Lage Meißner Kapitelberg. Unterwegs verkosten wir 4 unserer Weine dort\, wo die Trauben gereift sind. Am Ursprungsort erfahrt ihr allerlei über den Weinanbau und die Philosophie unseres Weinguts. Zum Abschluss spazieren wir auf den Boselfelsen\, wo ihr den weiten Blick übers Elbtal bis nach Dresden genießen könnt. Die Streckenlänge beträgt etwa 3\,5 Kilometer. \nLeider schon ausgebucht. Wir freuen uns auf 2023.  \n* Hinweis: In unseren Weinbergen seid ihr ganz nah an der Natur. Bitte beachtet\, dass ihr der Witterung entsprechende Kleidung und für den Spaziergang festes Schuhwerk tragt. So werden die Touren für euch zu einem unvergesslichen Erlebnis. Die Angaben zur zeitlichen Länge der Angebote sind Richtwerte und stets abhängig von den Teilnehmern. Wir möchten euch einen angenehmen und stressfreien Ausflug bieten. Deshalb ist die Teilnehmerzahl begrenzt. Startpunkt der Wanderung ist unsere Vinothek\, Zaschendorfer Straße 2\, 01640 Sörnewitz.
URL:https://weingut-schuh.de/event/gemuetlicher-weinbergsspaziergang-2/
LOCATION:Weingut Schuh\, Zaschendorfer Straße 2\, Sörnewitz\, 01640
CATEGORIES:Wanderung
ATTACH;FMTTYPE=image/jpeg:https://weingut-schuh.de/wp-content/uploads/2017/10/weinbergspaziergang.jpg
END:VEVENT
BEGIN:VEVENT
DTSTART;TZID=Europe/Berlin:20220618T140000
DTEND;TZID=Europe/Berlin:20220619T190000
DTSTAMP:20260421T070616
CREATED:20220131T165145Z
LAST-MODIFIED:20220520T120735Z
UID:9054-1655560800-1655665200@weingut-schuh.de
SUMMARY:Rock 'n' Roll zum Hoffest
DESCRIPTION:In diesem Jahr möchten wir wieder ein richtiges Hoffest mit euch feiern. Wir bleiben unserem Motto treu: Rock ’n‘ Roll! \nSamstag · 18. Juni\nab 13 bis 24 Uhr geöffnet \n15–18 Uhr Live-Musik:\nVintage Varieté Songs\nmit Ella Owlson \n15–18 Uhr Kinderschminken mit der Arche\n19–24 Uhr Live-Musik:\nBlue Comets aus Berlin \nSonntag · 19. Juni\nab 12 bis 19 Uhr geöffnet\n13–16 Uhr Kinderschminken mit der Arche\n14–18 Uhr Live- Musik: The Ants Roots // Surf Rock’n’Roll aus Halle\n15 Uhr Kleines Showprogramm von\nTanzAntracktion \n➤ Köstlichkeiten aus der hofeigenen Küche\n➤ Juniper Jack Gin Bar\n➤ Kaffee und Kuchen\n➤ Basteln und Kinderschminken\nmit dem Arche Team\n➤ Dresscode Fifties-Style (freiwillig)\n➤ Parkmöglichkeiten auf dem\nWanderparkplatz Elbgaustraße \nFlyer Download
URL:https://weingut-schuh.de/event/rock-n-roll-zum-hoffest/
LOCATION:Weingut Schuh\, Zaschendorfer Straße 2\, Sörnewitz\, 01640
ATTACH;FMTTYPE=image/jpeg:https://weingut-schuh.de/wp-content/uploads/2022/01/rock-n-roll-hoffest.jpg
END:VEVENT
BEGIN:VEVENT
DTSTART;TZID=Europe/Berlin:20220514T060000
DTEND;TZID=Europe/Berlin:20220514T113000
DTSTAMP:20260421T070616
CREATED:20171010T085858Z
LAST-MODIFIED:20220313T090439Z
UID:1492-1652508000-1652527800@weingut-schuh.de
SUMMARY:Holger's Vogelwanderung
DESCRIPTION:UNSER TIPP FÜR FRÜHAUSSTEHER UND NATURFREUNDE! \nStartet zusammen mit unserem Winzermeister und Hobbyornithologe Holger Horter zu einem Ausflug in die faszinierende heimische Vogelwelt und lernt dabei die Natur unserer Weinberge kennen. Während der Wanderung werden drei Weine verkostet. Die Entdeckungstour führt rund sechs Kilometer durch das Landschaftsschutzgebiet Meißner Spaargebirge. \nLeider schon ausgebucht. Wir freuen uns auf 2023.  \n* Hinweis: In unseren Weinbergen seid ihr ganz nah an der Natur. Bitte beachtet\, dass ihr der Witterung entsprechende Kleidung und für die Wanderungen in den Steillagen festes Schuhwerk tragt. So werden die Touren für euch zu einem unvergesslichen Erlebnis. Die Angaben zur zeitlichen Länge der Angebote sind Richtwerte und stets abhängig von den Teilnehmern. Wir möchten euch einen angenehmen und stressfreien Ausflug bieten. Deshalb ist die Teilnehmerzahl begrenzt. Startpunkt der Wanderung ist unsere Vinothek\, Zaschendorfer Straße 2\, 01640 Sörnewitz.
URL:https://weingut-schuh.de/event/holgers-vogelwanderung-2/
LOCATION:Weingut Schuh\, Zaschendorfer Straße 2\, Sörnewitz\, 01640
CATEGORIES:Wanderung
ATTACH;FMTTYPE=image/jpeg:https://weingut-schuh.de/wp-content/uploads/2017/05/Holger-Horter.jpg
END:VEVENT
BEGIN:VEVENT
DTSTART;TZID=Europe/Berlin:20220512T170000
DTEND;TZID=Europe/Berlin:20220512T200000
DTSTAMP:20260421T070616
CREATED:20211220T145602Z
LAST-MODIFIED:20220313T090510Z
UID:8499-1652374800-1652385600@weingut-schuh.de
SUMMARY:Elbwiesen-Kräuterspaziergang mit 3-Gang Menü
DESCRIPTION:Wir begrüßen euch mit einem Glas Secco an unserer Vinothek.\nDanach startet Kräuterkundlerin Christina Riedel mit euch zu einem kleinen Spaziergang an den Elbwiesen.\nHier wird sie viel Wissenswertes zu den essbaren Schätzen am Wegesrand erklären und hält auch eine kleine Kräuterüberraschung bereit.\nAnschließend erwarten euch Martina und Aaron im Weinrestaurant mit einem 3-Gang Kräutermenü.\nAus Rücksicht auf andere Teilnehmer ist die Teilnahme mit Haustier nicht möglich.\nTeilnahme ab 16 Jahren\nBeginn: 17 Uhr\nDauer: 3-4 Stunden\nStartpunkt: Vinothek Zaschendorfer Straße 2\, 01640 Sörnewitz\n\nLeider schon ausgebucht. Wir freuen uns auf 2023.
URL:https://weingut-schuh.de/event/elbwiesen-kraeuterspaziergang-mit-3-gang-menue-2/
LOCATION:Weingut Schuh\, Zaschendorfer Straße 2\, Sörnewitz\, 01640
CATEGORIES:Genuss im Restaurant,Kräuterspaziergang
END:VEVENT
BEGIN:VEVENT
DTSTART;TZID=Europe/Berlin:20220414T170000
DTEND;TZID=Europe/Berlin:20220414T200000
DTSTAMP:20260421T070616
CREATED:20211220T144843Z
LAST-MODIFIED:20220313T090652Z
UID:8497-1649955600-1649966400@weingut-schuh.de
SUMMARY:Elbwiesen-Kräuterspaziergang mit 3-Gang Menü
DESCRIPTION:Wir begrüßen euch mit einem Glas Secco an unserer Vinothek.\nDanach startet Kräuterkundlerin Christina Riedel mit euch zu einem kleinen Spaziergang an den Elbwiesen.\nHier wird sie viel Wissenswertes zu den essbaren Schätzen am Wegesrand erklären und hält auch eine kleine Kräuterüberraschung bereit.\nAnschließend erwarten euch Martina und Aaron im Weinrestaurant mit einem 3-Gang Kräutermenü.\nAus Rücksicht auf andere Teilnehmer ist die Teilnahme mit Haustier nicht möglich.\nTeilnahme ab 16 Jahren\nBeginn: 17 Uhr\nDauer: 3-4 Stunden\nStartpunkt: Vinothek Zaschendorfer Straße 2\, 01640 Sörnewitz \nLeider schon ausgebucht. Wir freuen uns auf 2023.
URL:https://weingut-schuh.de/event/elbwiesen-kraeuterspaziergang-mit-3-gang-menue/
LOCATION:Weingut Schuh\, Zaschendorfer Straße 2\, Sörnewitz\, 01640
CATEGORIES:Genuss im Restaurant,Kräuterspaziergang
END:VEVENT
BEGIN:VEVENT
DTSTART;TZID=Europe/Berlin:20220304T170000
DTEND;TZID=Europe/Berlin:20220304T190000
DTSTAMP:20260421T070616
CREATED:20200605T060536Z
LAST-MODIFIED:20220502T105001Z
UID:6618-1646413200-1646420400@weingut-schuh.de
SUMMARY:Kellergeflüster
DESCRIPTION:Wagt einen Blick hinter die Kulissen und lernt dabei die Welt der Weinherstellung näher kennen. Matthias zeigt euch\, wo unsere Weine entstehen und wie wir arbeiten. Natürlich verraten wir euch bei dieser besonderen Betriebsführung auch\, was uns dabei wichtig ist. Ganz ohne Winzerlatein\, dafür verkosten wir mit euch entspannt fünf unserer Weine. \nGleich Ticket buchen oder Alternativtermin auswählen.
URL:https://weingut-schuh.de/event/kellergefluester-10/
LOCATION:Weingut Schuh\, Zaschendorfer Straße 2\, Sörnewitz\, 01640
CATEGORIES:Kellereiführung
ATTACH;FMTTYPE=image/jpeg:https://weingut-schuh.de/wp-content/uploads/2019/12/2020.04.21-Reben_Neu_Tag-VI_canon-®Marvin-Pelny-104-scaled.jpg
END:VEVENT
BEGIN:VEVENT
DTSTART;TZID=Europe/Berlin:20220212T170000
DTEND;TZID=Europe/Berlin:20220212T190000
DTSTAMP:20260421T070616
CREATED:20200605T060419Z
LAST-MODIFIED:20220511T092308Z
UID:6616-1644685200-1644692400@weingut-schuh.de
SUMMARY:Kellergeflüster
DESCRIPTION:Wagt mit uns einen Blick hinter die Kulissen und lernt dabei die Welt der Weinherstellung näher kennen. Matthias zeigt euch\, wo unsere Weine entstehen und wie wir arbeiten. Natürlich verraten wir euch bei dieser besonderen Betriebsführung auch\, was uns dabei wichtig ist. Natürlich verkosten wir auch Weine mit euch. \nGleich Ticket buchen oder Alternativtermin wählen
URL:https://weingut-schuh.de/event/kellergefluester-9/
LOCATION:Weingut Schuh\, Zaschendorfer Straße 2\, Sörnewitz\, 01640
CATEGORIES:Kellereiführung
ATTACH;FMTTYPE=image/jpeg:https://weingut-schuh.de/wp-content/uploads/2019/12/2020.04.21-Reben_Neu_Tag-VI_canon-®Marvin-Pelny-104-scaled.jpg
END:VEVENT
BEGIN:VEVENT
DTSTART;TZID=Europe/Berlin:20220211T170000
DTEND;TZID=Europe/Berlin:20220211T190000
DTSTAMP:20260421T070616
CREATED:20200605T060707Z
LAST-MODIFIED:20211220T160137Z
UID:6620-1644598800-1644606000@weingut-schuh.de
SUMMARY:Kellergeflüster
DESCRIPTION:Wagt einen Blick hinter die Kulissen und lernt dabei die Welt der Weinherstellung näher kennen. Matthias zeigt euch\, wo unsere Weine entstehen und wie wir arbeiten. Natürlich verraten wir euch bei dieser besonderen Betriebsführung auch\, was uns dabei wichtig ist. Natürlich verkosten wir auch Weine mit euch. \nTicket gleich buchen.
URL:https://weingut-schuh.de/event/kellergefluester-11/
LOCATION:Weingut Schuh\, Zaschendorfer Straße 2\, Sörnewitz\, 01640
CATEGORIES:Kellereiführung
ATTACH;FMTTYPE=image/jpeg:https://weingut-schuh.de/wp-content/uploads/2019/12/2020.04.21-Reben_Neu_Tag-VI_canon-®Marvin-Pelny-104-scaled.jpg
END:VEVENT
BEGIN:VEVENT
DTSTART;TZID=Europe/Berlin:20210719T100000
DTEND;TZID=Europe/Berlin:20210725T200000
DTSTAMP:20260421T070616
CREATED:20210311T095135Z
LAST-MODIFIED:20220502T120611Z
UID:6798-1626688800-1627243200@weingut-schuh.de
SUMMARY:Weinpavillon auf dem Marktplatz Meißen
DESCRIPTION:Eine Woche lang präsentieren wir unsere Weine im Pavillon auf dem Meißner Marktplatz. Wir freuen uns\, euch dort zu treffen und euch auschenken zu dürfen.
URL:https://weingut-schuh.de/event/weinpavillon-auf-dem-marktplatz-meissen/
LOCATION:Marktplatz Meissen\, Markt\, Meißen\, 01662\, Deutschland
CATEGORIES:Ausschank
END:VEVENT
BEGIN:VEVENT
DTSTART;TZID=Europe/Berlin:20210619T000000
DTEND;TZID=Europe/Berlin:20210620T000000
DTSTAMP:20260421T070616
CREATED:20210609T092838Z
LAST-MODIFIED:20210609T093528Z
UID:6920-1624060800-1624147200@weingut-schuh.de
SUMMARY:Hoffete 19. Juni 2021 & 20. Juni 2021
DESCRIPTION:Wir können wieder mit Ihnen feiern. Doch statt zu einem großem HofFEST laden wir Sie in diesem Jahr zu einer kleinen\, aber feinen HofFETE ein. In diesem Rahmen möchten wir Ihnen eine entspannte Auszeit mit Wein\, kulinarischen Köstlichkeiten und Live-Musik bieten. \nDas Programm:\nSonnabend\, 19. Juni 2021\n– ab 17 Uhr geöffnet\n– 18-22 Uhr Live-Musik mit der Meißner Gartenband \nSonntag\, 20. Juni 2021\n– ab 12 Uhr geöffnet\n– 13-17 Uhr Live-Musik mit Robert Bernier aus Potsdam \nKulturbeitrag: 10 Euro pro Person \nTischreservierungen für ein Plätzchen in unserem Hof in der Zaschendorfer Straße 2 unter Tel. 03523/848 83 \nDas Team des Weinrestaurants verwöhnt Sie mit hausgemachten kulinarischen Köstlichkeiten. Unser Koch Aaron Schubbert heizt den Smoker an. Und für gekühlten Vino ist bei uns im Weingut natürlich gesorgt. \n(Hinweis: Wir bitten um Beachtung der behördlichen Corona-Schutzmaßnahmen\, die verbindlich gelten.)
URL:https://weingut-schuh.de/event/hoffete/
LOCATION:Weingut Schuh\, Zaschendorfer Straße 2\, Sörnewitz\, 01640
CATEGORIES:Weinfeste
ATTACH;FMTTYPE=image/jpeg:https://weingut-schuh.de/wp-content/uploads/2021/06/hoffete.jpg
END:VEVENT
END:VCALENDAR