BEGIN:VCALENDAR
VERSION:2.0
PRODID:-// - ECPv6.15.20//NONSGML v1.0//EN
CALSCALE:GREGORIAN
METHOD:PUBLISH
X-ORIGINAL-URL:https://weingut-schuh.de
X-WR-CALDESC:Events for 
REFRESH-INTERVAL;VALUE=DURATION:PT1H
X-Robots-Tag:noindex
X-PUBLISHED-TTL:PT1H
BEGIN:VTIMEZONE
TZID:Europe/Berlin
BEGIN:DAYLIGHT
TZOFFSETFROM:+0100
TZOFFSETTO:+0200
TZNAME:CEST
DTSTART:20210328T010000
END:DAYLIGHT
BEGIN:STANDARD
TZOFFSETFROM:+0200
TZOFFSETTO:+0100
TZNAME:CET
DTSTART:20211031T010000
END:STANDARD
BEGIN:DAYLIGHT
TZOFFSETFROM:+0100
TZOFFSETTO:+0200
TZNAME:CEST
DTSTART:20220327T010000
END:DAYLIGHT
BEGIN:STANDARD
TZOFFSETFROM:+0200
TZOFFSETTO:+0100
TZNAME:CET
DTSTART:20221030T010000
END:STANDARD
BEGIN:DAYLIGHT
TZOFFSETFROM:+0100
TZOFFSETTO:+0200
TZNAME:CEST
DTSTART:20230326T010000
END:DAYLIGHT
BEGIN:STANDARD
TZOFFSETFROM:+0200
TZOFFSETTO:+0100
TZNAME:CET
DTSTART:20231029T010000
END:STANDARD
END:VTIMEZONE
BEGIN:VEVENT
DTSTART;TZID=Europe/Berlin:20221218T130000
DTEND;TZID=Europe/Berlin:20221218T160000
DTSTAMP:20260421T084329
CREATED:20221102T122255Z
LAST-MODIFIED:20221102T122255Z
UID:16782-1671368400-1671379200@weingut-schuh.de
SUMMARY:Sörnewitzer Glühunterschlupf 18.12.2022
DESCRIPTION:Genießen Sie im gemütlichen Hof einen heißen Schuh oder Glühaperol\,währenddessen können die Kleinen ums Feuer tanzen und ihren Knüppelkuchen garen. \nNach einer Wanderung zur Bosel einmal kurz aufwärmen und die Winterluft genießenmit leuchtenden Sternen im Hintergrund.
URL:https://weingut-schuh.de/event/soernewitzer-gluehunterschlupf-18-12-2022/
LOCATION:Hof der Vinothek\, Zaschendorfer Straße 2\, Sörnewitz\, Sachsen\, Deutschland
CATEGORIES:Gemütliches Zusammenkommen bei heißem Schuh und Feuerchen,Knüppelkuchen für die Kleinen
ATTACH;FMTTYPE=image/jpeg:https://weingut-schuh.de/wp-content/uploads/2022/11/Hoffeuerchen.jpg
END:VEVENT
BEGIN:VEVENT
DTSTART;TZID=Europe/Berlin:20221217T130000
DTEND;TZID=Europe/Berlin:20221217T160000
DTSTAMP:20260421T084329
CREATED:20221102T122129Z
LAST-MODIFIED:20221102T122129Z
UID:16780-1671282000-1671292800@weingut-schuh.de
SUMMARY:Sörnewitzer Glühunterschlupf 17.12.2022
DESCRIPTION:Genießen Sie im gemütlichen Hof einen heißen Schuh oder Glühaperol\,währenddessen können die Kleinen ums Feuer tanzen und ihren Knüppelkuchen garen. \nNach einer Wanderung zur Bosel einmal kurz aufwärmen und die Winterluft genießenmit leuchtenden Sternen im Hintergrund.
URL:https://weingut-schuh.de/event/soernewitzer-gluehunterschlupf-17-12-2022/
LOCATION:Hof der Vinothek\, Zaschendorfer Straße 2\, Sörnewitz\, Sachsen\, Deutschland
CATEGORIES:Gemütliches Zusammenkommen bei heißem Schuh und Feuerchen,Knüppelkuchen für die Kleinen
ATTACH;FMTTYPE=image/jpeg:https://weingut-schuh.de/wp-content/uploads/2022/11/Hoffeuerchen.jpg
END:VEVENT
BEGIN:VEVENT
DTSTART;TZID=Europe/Berlin:20221211T130000
DTEND;TZID=Europe/Berlin:20221211T160000
DTSTAMP:20260421T084329
CREATED:20221102T121951Z
LAST-MODIFIED:20221102T122001Z
UID:16778-1670763600-1670774400@weingut-schuh.de
SUMMARY:Sörnewitzer Glühunterschlupf 11.12.2022
DESCRIPTION:Genießen Sie im gemütlichen Hof einen heißen Schuh oder Glühaperol\,währenddessen können die Kleinen ums Feuer tanzen und ihren Knüppelkuchen garen. \nNach einer Wanderung zur Bosel einmal kurz aufwärmen und die Winterluft genießenmit leuchtenden Sternen im Hintergrund.
URL:https://weingut-schuh.de/event/soernewitzer-gluehunterschlupf-11-12-2022/
LOCATION:Hof der Vinothek\, Zaschendorfer Straße 2\, Sörnewitz\, Sachsen\, Deutschland
CATEGORIES:Gemütliches Zusammenkommen bei heißem Schuh und Feuerchen,Knüppelkuchen für die Kleinen
ATTACH;FMTTYPE=image/jpeg:https://weingut-schuh.de/wp-content/uploads/2022/11/Hoffeuerchen.jpg
END:VEVENT
BEGIN:VEVENT
DTSTART;TZID=Europe/Berlin:20221210T130000
DTEND;TZID=Europe/Berlin:20221210T160000
DTSTAMP:20260421T084329
CREATED:20221102T121850Z
LAST-MODIFIED:20221102T121850Z
UID:16776-1670677200-1670688000@weingut-schuh.de
SUMMARY:Sörnewitzer Glühunterschlupf 10.12.2022
DESCRIPTION:Genießen Sie im gemütlichen Hof einen heißen Schuh oder Glühaperol\,währenddessen können die Kleinen ums Feuer tanzen und ihren Knüppelkuchen garen. \nNach einer Wanderung zur Bosel einmal kurz aufwärmen und die Winterluft genießenmit leuchtenden Sternen im Hintergrund.
URL:https://weingut-schuh.de/event/soernewitzer-gluehunterschlupf-10-12-2022/
LOCATION:Hof der Vinothek\, Zaschendorfer Straße 2\, Sörnewitz\, Sachsen\, Deutschland
CATEGORIES:Gemütliches Zusammenkommen bei heißem Schuh und Feuerchen,Knüppelkuchen für die Kleinen
ATTACH;FMTTYPE=image/jpeg:https://weingut-schuh.de/wp-content/uploads/2022/11/Hoffeuerchen.jpg
END:VEVENT
BEGIN:VEVENT
DTSTART;TZID=Europe/Berlin:20221204T130000
DTEND;TZID=Europe/Berlin:20221204T160000
DTSTAMP:20260421T084329
CREATED:20221102T121750Z
LAST-MODIFIED:20221102T121750Z
UID:16774-1670158800-1670169600@weingut-schuh.de
SUMMARY:Sörnewitzer Glühunterschlupf 4.12.2022
DESCRIPTION:Genießen Sie im gemütlichen Hof einen heißen Schuh oder Glühaperol\,währenddessen können die Kleinen ums Feuer tanzen und ihren Knüppelkuchen garen. \nNach einer Wanderung zur Bosel einmal kurz aufwärmen und die Winterluft genießenmit leuchtenden Sternen im Hintergrund.
URL:https://weingut-schuh.de/event/soernewitzer-gluehunterschlupf-4-12-2022/
LOCATION:Hof der Vinothek\, Zaschendorfer Straße 2\, Sörnewitz\, Sachsen\, Deutschland
CATEGORIES:Gemütliches Zusammenkommen bei heißem Schuh und Feuerchen,Knüppelkuchen für die Kleinen
ATTACH;FMTTYPE=image/jpeg:https://weingut-schuh.de/wp-content/uploads/2022/11/Hoffeuerchen.jpg
END:VEVENT
BEGIN:VEVENT
DTSTART;TZID=Europe/Berlin:20221203T080000
DTEND;TZID=Europe/Berlin:20221203T160000
DTSTAMP:20260421T084329
CREATED:20221102T121222Z
LAST-MODIFIED:20221102T121657Z
UID:16767-1670054400-1670083200@weingut-schuh.de
SUMMARY:Sörnewitzer Glühunterschlupf 3.12.2022
DESCRIPTION:Genießen Sie im gemütlichen Hof einen heißen Schuh oder Glühaperol\,währenddessen können die Kleinen ums Feuer tanzen und ihren Knüppelkuchen garen. \nNach einer Wanderung zur Bosel einmal kurz aufwärmen und die Winterluft genießenmit leuchtenden Sternen im Hintergrund.
URL:https://weingut-schuh.de/event/soernewitzer-gluehunterschlupf-3-12-2022/
LOCATION:Hof der Vinothek\, Zaschendorfer Straße 2\, Sörnewitz\, Sachsen\, Deutschland
CATEGORIES:Gemütliches Zusammenkommen bei heißem Schuh und Feuerchen,Knüppelkuchen für die Kleinen
ATTACH;FMTTYPE=image/jpeg:https://weingut-schuh.de/wp-content/uploads/2022/11/Hoffeuerchen.jpg
END:VEVENT
BEGIN:VEVENT
DTSTART;TZID=Europe/Berlin:20221127T130000
DTEND;TZID=Europe/Berlin:20221127T160000
DTSTAMP:20260421T084329
CREATED:20221102T121609Z
LAST-MODIFIED:20221102T121609Z
UID:16771-1669554000-1669564800@weingut-schuh.de
SUMMARY:Sörnewitzer Glühunterschlupf 27.11.2022
DESCRIPTION:Genießen Sie im gemütlichen Hof einen heißen Schuh oder Glühaperol\,währenddessen können die Kleinen ums Feuer tanzen und ihren Knüppelkuchen garen. \nNach einer Wanderung zur Bosel einmal kurz aufwärmen und die Winterluft genießenmit leuchtenden Sternen im Hintergrund.
URL:https://weingut-schuh.de/event/soernewitzer-gluehunterschlupf-27-11-2022/
LOCATION:Hof der Vinothek\, Zaschendorfer Straße 2\, Sörnewitz\, Sachsen\, Deutschland
CATEGORIES:Gemütliches Zusammenkommen bei heißem Schuh und Feuerchen,Knüppelkuchen für die Kleinen
ATTACH;FMTTYPE=image/jpeg:https://weingut-schuh.de/wp-content/uploads/2022/11/Hoffeuerchen.jpg
END:VEVENT
BEGIN:VEVENT
DTSTART;TZID=Europe/Berlin:20221126T130000
DTEND;TZID=Europe/Berlin:20221126T160000
DTSTAMP:20260421T084329
CREATED:20221102T120734Z
LAST-MODIFIED:20221102T121507Z
UID:16761-1669467600-1669478400@weingut-schuh.de
SUMMARY:Sörnewitzer Glühunterschlupf 26.11.2022
DESCRIPTION:Genießen Sie im gemütlichen Hof einen heißen Schuh oder Glühaperol\,währenddessen können die Kleinen ums Feuer tanzen und ihren Knüppelkuchen garen. \nNach einer Wanderung zur Bosel einmal kurz aufwärmen und die Winterluft genießenmit leuchtenden Sternen im Hintergrund.
URL:https://weingut-schuh.de/event/soernewitzer-gluehunterschlupf-26-11-2022/
LOCATION:Hof der Vinothek\, Zaschendorfer Straße 2\, Sörnewitz\, Sachsen\, Deutschland
CATEGORIES:Gemütliches Zusammenkommen bei heißem Schuh und Feuerchen,Knüppelkuchen für die Kleinen
ATTACH;FMTTYPE=image/jpeg:https://weingut-schuh.de/wp-content/uploads/2022/11/Hoffeuerchen.jpg
END:VEVENT
END:VCALENDAR