BEGIN:VCALENDAR
VERSION:2.0
PRODID:-// - ECPv6.15.20//NONSGML v1.0//EN
CALSCALE:GREGORIAN
METHOD:PUBLISH
X-ORIGINAL-URL:https://weingut-schuh.de
X-WR-CALDESC:Events for 
REFRESH-INTERVAL;VALUE=DURATION:PT1H
X-Robots-Tag:noindex
X-PUBLISHED-TTL:PT1H
BEGIN:VTIMEZONE
TZID:Europe/Berlin
BEGIN:DAYLIGHT
TZOFFSETFROM:+0100
TZOFFSETTO:+0200
TZNAME:CEST
DTSTART:20210328T010000
END:DAYLIGHT
BEGIN:STANDARD
TZOFFSETFROM:+0200
TZOFFSETTO:+0100
TZNAME:CET
DTSTART:20211031T010000
END:STANDARD
BEGIN:DAYLIGHT
TZOFFSETFROM:+0100
TZOFFSETTO:+0200
TZNAME:CEST
DTSTART:20220327T010000
END:DAYLIGHT
BEGIN:STANDARD
TZOFFSETFROM:+0200
TZOFFSETTO:+0100
TZNAME:CET
DTSTART:20221030T010000
END:STANDARD
BEGIN:DAYLIGHT
TZOFFSETFROM:+0100
TZOFFSETTO:+0200
TZNAME:CEST
DTSTART:20230326T010000
END:DAYLIGHT
BEGIN:STANDARD
TZOFFSETFROM:+0200
TZOFFSETTO:+0100
TZNAME:CET
DTSTART:20231029T010000
END:STANDARD
BEGIN:DAYLIGHT
TZOFFSETFROM:+0100
TZOFFSETTO:+0200
TZNAME:CEST
DTSTART:20240331T010000
END:DAYLIGHT
BEGIN:STANDARD
TZOFFSETFROM:+0200
TZOFFSETTO:+0100
TZNAME:CET
DTSTART:20241027T010000
END:STANDARD
BEGIN:DAYLIGHT
TZOFFSETFROM:+0100
TZOFFSETTO:+0200
TZNAME:CEST
DTSTART:20250330T010000
END:DAYLIGHT
BEGIN:STANDARD
TZOFFSETFROM:+0200
TZOFFSETTO:+0100
TZNAME:CET
DTSTART:20251026T010000
END:STANDARD
END:VTIMEZONE
BEGIN:VEVENT
DTSTART;TZID=Europe/Berlin:20241111T180000
DTEND;TZID=Europe/Berlin:20241111T180000
DTSTAMP:20260421T143555
CREATED:20220823T070140Z
LAST-MODIFIED:20231108T145107Z
UID:14853-1731348000-1731348000@weingut-schuh.de
SUMMARY:Wine & Dine Martinsgans-Menü
DESCRIPTION:Kulinarischer Weinabend mit 5-Gang Menü im Weinrestaurant.\nIncl. Weinbegleitung\, Mineralwasser & Heißgetränk\nIm Vorverkauf über martina@weingut-schuh.de
URL:https://weingut-schuh.de/event/wine-dine-martinsgans-menue/
LOCATION:Restaurant im Weingut\, Dresdner Straße 314\, Coswig\, 01640\, Deutschland
CATEGORIES:Genuss im Restaurant
END:VEVENT
BEGIN:VEVENT
DTSTART;TZID=Europe/Berlin:20240906T180000
DTEND;TZID=Europe/Berlin:20240906T210000
DTSTAMP:20260421T143555
CREATED:20231108T144536Z
LAST-MODIFIED:20231108T145016Z
UID:20893-1725645600-1725656400@weingut-schuh.de
SUMMARY:Wine & Dine Spätsommer in Sörnewitz la dolce Vita Mediterranes Menü
DESCRIPTION:Beginn: 18:00 Uhr\nMenü: 139 € pro Person all inclusive\nOrt: Weinrestaurant Dresdner Straße 314 01640 Sörnewitz\nAus Rücksicht auf andere Teilnehmer ist die Teilnahme mit Haustier nicht möglich.\nTeilnahme ab 16 Jahren\nBei Verlust der Karte kein Ersatz!\nTeilnahme nur bei Vorlage der Karte möglich. Verrechnung mit anderen Leistungen nicht möglich.
URL:https://weingut-schuh.de/event/wine-dine-spaetsommer-in-soernewitz-la-dolce-vita-mediterranes-menue/
LOCATION:Restaurant im Weingut\, Dresdner Straße 314\, Coswig\, 01640\, Deutschland
CATEGORIES:Genuss im Restaurant
END:VEVENT
BEGIN:VEVENT
DTSTART;TZID=Europe/Berlin:20240705T180000
DTEND;TZID=Europe/Berlin:20240705T210000
DTSTAMP:20260421T143555
CREATED:20231108T144413Z
LAST-MODIFIED:20240412T075335Z
UID:20891-1720202400-1720213200@weingut-schuh.de
SUMMARY:Wine & Dine Im Sommer tobt die Grillsaison BBQ Menü (AUSGEBUCHT)
DESCRIPTION:Beginn: 18:00 Uhr\nMenü: 139 € pro Person all inclusive\nOrt: Weinrestaurant Dresdner Straße 314 01640 Sörnewitz\nAus Rücksicht auf andere Teilnehmer ist die Teilnahme mit Haustier nicht möglich.\nTeilnahme ab 16 Jahren\nBei Verlust der Karte kein Ersatz!\nTeilnahme nur bei Vorlage der Karte möglich. Verrechnung mit anderen Leistungen nicht möglich.
URL:https://weingut-schuh.de/event/wine-dine-im-sommer-tobt-die-grillsaison-bbq-menue/
LOCATION:Restaurant im Weingut\, Dresdner Straße 314\, Coswig\, 01640\, Deutschland
CATEGORIES:Genuss im Restaurant
END:VEVENT
BEGIN:VEVENT
DTSTART;TZID=Europe/Berlin:20240503T170000
DTEND;TZID=Europe/Berlin:20240503T210000
DTSTAMP:20260421T143555
CREATED:20231108T144256Z
LAST-MODIFIED:20231108T144256Z
UID:20889-1714755600-1714770000@weingut-schuh.de
SUMMARY:Wine & Dine Elbwiesen-Kräuterspaziergang mit anschließendem Kräuter-Spargelmenü
DESCRIPTION:Beginn: 17:00 Uhr\nMenü: 159 € pro Person incl. Weinbegleitung\, Mineralwasser & Heißgetränk also all inclusive 😉\nOrt: Weinrestaurant Dresdner Straße 314 01640 Sörnewitz\nAus Rücksicht auf andere Teilnehmer ist die Teilnahme mit Haustier nicht möglich.\nTeilnahme ab 16 Jahren\nBei Verlust der Karte kein Ersatz!\nTeilnahme nur bei Vorlage der Karte möglich. Verrechnung mit anderen Leistungen nicht möglich.
URL:https://weingut-schuh.de/event/wine-dine-elbwiesen-kraeuterspaziergang-mit-anschliessendem-kraeuter-spargelmenue/
LOCATION:Restaurant im Weingut\, Dresdner Straße 314\, Coswig\, 01640\, Deutschland
CATEGORIES:Genuss im Restaurant
END:VEVENT
BEGIN:VEVENT
DTSTART;TZID=Europe/Berlin:20240329T180000
DTEND;TZID=Europe/Berlin:20240329T210000
DTSTAMP:20260421T143555
CREATED:20231108T144048Z
LAST-MODIFIED:20231108T145056Z
UID:20886-1711735200-1711746000@weingut-schuh.de
SUMMARY:Wine & Dine Karfreitag kommt Fisch auf den Tisch
DESCRIPTION:Beginn: 18:00 Uhr\nMenü: 139 € pro Person all inclusive\nOrt: Weinrestaurant Dresdner Straße 314 01640 Sörnewitz\nAus Rücksicht auf andere Teilnehmer ist die Teilnahme mit Haustier nicht möglich.\nTeilnahme ab 16 Jahren\nBei Verlust der Karte kein Ersatz!\nTeilnahme nur bei Vorlage der Karte möglich. Verrechnung mit anderen Leistungen nicht möglich.
URL:https://weingut-schuh.de/event/wine-dine-karfreitag-kommt-fisch-auf-den-tisch-2/
CATEGORIES:Genuss im Restaurant
END:VEVENT
BEGIN:VEVENT
DTSTART;VALUE=DATE:20240322
DTEND;VALUE=DATE:20240325
DTSTAMP:20260421T143555
CREATED:20240111T093731Z
LAST-MODIFIED:20240111T093731Z
UID:21309-1711065600-1711324799@weingut-schuh.de
SUMMARY:Genießer Wochenende 2024 März
DESCRIPTION:2 Übernachtungen im Doppelzimmer von Freitag bis Sonntag inklusive SektfrühstückAm Freitagabend 3– Gang WillkommensmenüAm Samstagvormittag\, nach unserem reichhaltigen „Winzerfrühstück“\, erwartet Sieeine Führung durch die Schauwerkstattund das Museum der Meissener Porzellanmanufaktur. Anschließend geht ́s zurück ins Weingutzu einem kleinen Mittagsimbiss.Um 15:00 Uhr starten wir mit Ihnen zu einem „Weinspaziergang“ über die Bosel und verkosten 4Weine während des Spaziergangs\, dort wo die Trauben gewachsen sind. Anschließend geht es zurückdurch den Botanischen Garten der TU Dresden auf dem Boselfelsen.Ab 18:00 Uhr genießen Sie dann unser\n“Genießer” 4– Gang Menü mit Weinbegleitung\nAm Sonntag\, nach unserem Sektfrühstück\,sind Sie gestärkt für Ihre Heimreise. \nPreis pro Person im Doppelzimmer „Weinrestaurant“: 250\,– EURPreis pro Person im Doppelzimmer „Vinotel“: 280\,– EUR
URL:https://weingut-schuh.de/event/geniesser-wochenende-2024-maerz/
LOCATION:Restaurant im Weingut\, Dresdner Straße 314\, Coswig\, 01640\, Deutschland
CATEGORIES:Genuss im Restaurant
END:VEVENT
BEGIN:VEVENT
DTSTART;TZID=Europe/Berlin:20231006T180000
DTEND;TZID=Europe/Berlin:20231006T210000
DTSTAMP:20260421T143555
CREATED:20220823T070010Z
LAST-MODIFIED:20220823T070010Z
UID:14851-1696615200-1696626000@weingut-schuh.de
SUMMARY:Wine & Dine Herbstmenü - Kürbis- und Pilzzeit
DESCRIPTION:Kulinarischer Weinabend mit 4-Gang Menü im Weinrestaurant.\nIncl. Weinbegleitung\, Mineralwasser & Heißgetränk\nIm Vorverkauf über martina@weingut-schuh.de
URL:https://weingut-schuh.de/event/wine-dine-herbstmenue-kuerbis-und-pilzzeit/
LOCATION:Restaurant im Weingut\, Dresdner Straße 314\, Coswig\, 01640\, Deutschland
CATEGORIES:Genuss im Restaurant
END:VEVENT
BEGIN:VEVENT
DTSTART;TZID=Europe/Berlin:20230804T180000
DTEND;TZID=Europe/Berlin:20230804T210000
DTSTAMP:20260421T143555
CREATED:20220823T065650Z
LAST-MODIFIED:20220823T065650Z
UID:14847-1691172000-1691182800@weingut-schuh.de
SUMMARY:Wine & Dine Im Sommer tobt die Grillsaison 4-Gang BBQ Menü
DESCRIPTION:Kulinarischer Weinabend mit 4-Gang Menü im Weinrestaurant.\nIncl. Weinbegleitung\, Mineralwasser & Heißgetränk\nIm Vorverkauf über martina@weingut-schuh.de
URL:https://weingut-schuh.de/event/wine-dine-im-sommer-tobt-die-grillsaison-4-gang-bbq-menue-2/
LOCATION:Restaurant im Weingut\, Dresdner Straße 314\, Coswig\, 01640\, Deutschland
CATEGORIES:Genuss im Restaurant
END:VEVENT
BEGIN:VEVENT
DTSTART;TZID=Europe/Berlin:20230707T180000
DTEND;TZID=Europe/Berlin:20230707T210000
DTSTAMP:20260421T143555
CREATED:20220823T065459Z
LAST-MODIFIED:20220823T065536Z
UID:14844-1688752800-1688763600@weingut-schuh.de
SUMMARY:Wine & Dine Im Sommer tobt die Grillsaison 4-Gang BBQ Menü
DESCRIPTION:Kulinarischer Weinabend mit 4-Gang Menü im Weinrestaurant.\nIncl. Weinbegleitung\, Mineralwasser & Heißgetränk\nIm Vorverkauf über martina@weingut-schuh.de
URL:https://weingut-schuh.de/event/wine-dine-im-sommer-tobt-die-grillsaison-4-gang-bbq-menue/
LOCATION:Restaurant im Weingut\, Dresdner Straße 314\, Coswig\, 01640\, Deutschland
CATEGORIES:Genuss im Restaurant
END:VEVENT
BEGIN:VEVENT
DTSTART;TZID=Europe/Berlin:20230602T180000
DTEND;TZID=Europe/Berlin:20230602T210000
DTSTAMP:20260421T143555
CREATED:20220823T065329Z
LAST-MODIFIED:20220823T065329Z
UID:14842-1685728800-1685739600@weingut-schuh.de
SUMMARY:Wine & Dine Elbwiesen-Kräuterspaziergang mit Spargelmenü
DESCRIPTION:Kulinarischer Weinabend mit 4-Gang Menü im Weinrestaurant.\nIncl. Weinbegleitung\, Mineralwasser & Heißgetränk\nIm Vorverkauf über martina@weingut-schuh.de
URL:https://weingut-schuh.de/event/wine-dine-elbwiesen-kraeuterspaziergang-mit-spargelmenue-2/
LOCATION:Restaurant im Weingut\, Dresdner Straße 314\, Coswig\, 01640\, Deutschland
CATEGORIES:Genuss im Restaurant
END:VEVENT
BEGIN:VEVENT
DTSTART;TZID=Europe/Berlin:20230505T180000
DTEND;TZID=Europe/Berlin:20230505T210000
DTSTAMP:20260421T143555
CREATED:20220823T065035Z
LAST-MODIFIED:20220823T065318Z
UID:14840-1683309600-1683320400@weingut-schuh.de
SUMMARY:Wine & Dine Elbwiesen-Kräuterspaziergang mit Spargelmenü
DESCRIPTION:Kulinarischer Weinabend mit 4-Gang Menü im Weinrestaurant.\nIncl. Weinbegleitung\, Mineralwasser & Heißgetränk\nIm Vorverkauf über martina@weingut-schuh.de
URL:https://weingut-schuh.de/event/wine-dine-elbwiesen-kraeuterspaziergang-mit-spargelmenue/
LOCATION:Restaurant im Weingut\, Dresdner Straße 314\, Coswig\, 01640\, Deutschland
CATEGORIES:Genuss im Restaurant
END:VEVENT
BEGIN:VEVENT
DTSTART;TZID=Europe/Berlin:20230407T180000
DTEND;TZID=Europe/Berlin:20230407T210000
DTSTAMP:20260421T143555
CREATED:20220823T064755Z
LAST-MODIFIED:20220823T065028Z
UID:14837-1680890400-1680901200@weingut-schuh.de
SUMMARY:Wine & Dine Karfreitag kommt Fisch auf den Tisch
DESCRIPTION:Kulinarischer Weinabend mit 4-Gang Menü im Weinrestaurant.\nIncl. Weinbegleitung\, Mineralwasser & Heißgetränk\nIm Vorverkauf über martina@weingut-schuh.de
URL:https://weingut-schuh.de/event/wine-dine-karfreitag-kommt-fisch-auf-den-tisch/
LOCATION:Restaurant im Weingut\, Dresdner Straße 314\, Coswig\, 01640\, Deutschland
CATEGORIES:Genuss im Restaurant
END:VEVENT
BEGIN:VEVENT
DTSTART;TZID=Europe/Berlin:20230203T080000
DTEND;TZID=Europe/Berlin:20230203T170000
DTSTAMP:20260421T143555
CREATED:20220823T064210Z
LAST-MODIFIED:20230110T084421Z
UID:14829-1675411200-1675443600@weingut-schuh.de
SUMMARY:Wine & Dine Kraut- und Rübenzeit (ausgebucht)
DESCRIPTION:Kulinarischer Weinabend mit 4-Gang Menü im Weinrestaurant.\nIncl. Weinbegleitung\, Mineralwasser & Heißgetränk\nIm Vorverkauf über martina@weingut-schuh.de
URL:https://weingut-schuh.de/event/wine-dine-kraut-und-ruebenzeit/
LOCATION:Restaurant im Weingut\, Dresdner Straße 314\, Coswig\, 01640\, Deutschland
CATEGORIES:Genuss im Restaurant
END:VEVENT
BEGIN:VEVENT
DTSTART;TZID=Europe/Berlin:20220512T170000
DTEND;TZID=Europe/Berlin:20220512T200000
DTSTAMP:20260421T143555
CREATED:20211220T145602Z
LAST-MODIFIED:20220313T090510Z
UID:8499-1652374800-1652385600@weingut-schuh.de
SUMMARY:Elbwiesen-Kräuterspaziergang mit 3-Gang Menü
DESCRIPTION:Wir begrüßen euch mit einem Glas Secco an unserer Vinothek.\nDanach startet Kräuterkundlerin Christina Riedel mit euch zu einem kleinen Spaziergang an den Elbwiesen.\nHier wird sie viel Wissenswertes zu den essbaren Schätzen am Wegesrand erklären und hält auch eine kleine Kräuterüberraschung bereit.\nAnschließend erwarten euch Martina und Aaron im Weinrestaurant mit einem 3-Gang Kräutermenü.\nAus Rücksicht auf andere Teilnehmer ist die Teilnahme mit Haustier nicht möglich.\nTeilnahme ab 16 Jahren\nBeginn: 17 Uhr\nDauer: 3-4 Stunden\nStartpunkt: Vinothek Zaschendorfer Straße 2\, 01640 Sörnewitz\n\nLeider schon ausgebucht. Wir freuen uns auf 2023.
URL:https://weingut-schuh.de/event/elbwiesen-kraeuterspaziergang-mit-3-gang-menue-2/
LOCATION:Weingut Schuh\, Zaschendorfer Straße 2\, Sörnewitz\, 01640
CATEGORIES:Genuss im Restaurant,Kräuterspaziergang
END:VEVENT
BEGIN:VEVENT
DTSTART;TZID=Europe/Berlin:20220414T170000
DTEND;TZID=Europe/Berlin:20220414T200000
DTSTAMP:20260421T143555
CREATED:20211220T144843Z
LAST-MODIFIED:20220313T090652Z
UID:8497-1649955600-1649966400@weingut-schuh.de
SUMMARY:Elbwiesen-Kräuterspaziergang mit 3-Gang Menü
DESCRIPTION:Wir begrüßen euch mit einem Glas Secco an unserer Vinothek.\nDanach startet Kräuterkundlerin Christina Riedel mit euch zu einem kleinen Spaziergang an den Elbwiesen.\nHier wird sie viel Wissenswertes zu den essbaren Schätzen am Wegesrand erklären und hält auch eine kleine Kräuterüberraschung bereit.\nAnschließend erwarten euch Martina und Aaron im Weinrestaurant mit einem 3-Gang Kräutermenü.\nAus Rücksicht auf andere Teilnehmer ist die Teilnahme mit Haustier nicht möglich.\nTeilnahme ab 16 Jahren\nBeginn: 17 Uhr\nDauer: 3-4 Stunden\nStartpunkt: Vinothek Zaschendorfer Straße 2\, 01640 Sörnewitz \nLeider schon ausgebucht. Wir freuen uns auf 2023.
URL:https://weingut-schuh.de/event/elbwiesen-kraeuterspaziergang-mit-3-gang-menue/
LOCATION:Weingut Schuh\, Zaschendorfer Straße 2\, Sörnewitz\, 01640
CATEGORIES:Genuss im Restaurant,Kräuterspaziergang
END:VEVENT
END:VCALENDAR