BEGIN:VCALENDAR
VERSION:2.0
PRODID:-// - ECPv6.15.20//NONSGML v1.0//EN
CALSCALE:GREGORIAN
METHOD:PUBLISH
X-ORIGINAL-URL:https://weingut-schuh.de
X-WR-CALDESC:Events for 
REFRESH-INTERVAL;VALUE=DURATION:PT1H
X-Robots-Tag:noindex
X-PUBLISHED-TTL:PT1H
BEGIN:VTIMEZONE
TZID:Europe/Berlin
BEGIN:DAYLIGHT
TZOFFSETFROM:+0100
TZOFFSETTO:+0200
TZNAME:CEST
DTSTART:20200329T010000
END:DAYLIGHT
BEGIN:STANDARD
TZOFFSETFROM:+0200
TZOFFSETTO:+0100
TZNAME:CET
DTSTART:20201025T010000
END:STANDARD
BEGIN:DAYLIGHT
TZOFFSETFROM:+0100
TZOFFSETTO:+0200
TZNAME:CEST
DTSTART:20210328T010000
END:DAYLIGHT
BEGIN:STANDARD
TZOFFSETFROM:+0200
TZOFFSETTO:+0100
TZNAME:CET
DTSTART:20211031T010000
END:STANDARD
BEGIN:DAYLIGHT
TZOFFSETFROM:+0100
TZOFFSETTO:+0200
TZNAME:CEST
DTSTART:20220327T010000
END:DAYLIGHT
BEGIN:STANDARD
TZOFFSETFROM:+0200
TZOFFSETTO:+0100
TZNAME:CET
DTSTART:20221030T010000
END:STANDARD
BEGIN:DAYLIGHT
TZOFFSETFROM:+0100
TZOFFSETTO:+0200
TZNAME:CEST
DTSTART:20230326T010000
END:DAYLIGHT
BEGIN:STANDARD
TZOFFSETFROM:+0200
TZOFFSETTO:+0100
TZNAME:CET
DTSTART:20231029T010000
END:STANDARD
BEGIN:DAYLIGHT
TZOFFSETFROM:+0100
TZOFFSETTO:+0200
TZNAME:CEST
DTSTART:20240331T010000
END:DAYLIGHT
BEGIN:STANDARD
TZOFFSETFROM:+0200
TZOFFSETTO:+0100
TZNAME:CET
DTSTART:20241027T010000
END:STANDARD
BEGIN:DAYLIGHT
TZOFFSETFROM:+0100
TZOFFSETTO:+0200
TZNAME:CEST
DTSTART:20250330T010000
END:DAYLIGHT
BEGIN:STANDARD
TZOFFSETFROM:+0200
TZOFFSETTO:+0100
TZNAME:CET
DTSTART:20251026T010000
END:STANDARD
BEGIN:DAYLIGHT
TZOFFSETFROM:+0100
TZOFFSETTO:+0200
TZNAME:CEST
DTSTART:20260329T010000
END:DAYLIGHT
BEGIN:STANDARD
TZOFFSETFROM:+0200
TZOFFSETTO:+0100
TZNAME:CET
DTSTART:20261025T010000
END:STANDARD
END:VTIMEZONE
BEGIN:VEVENT
DTSTART;TZID=Europe/Berlin:20250824T100000
DTEND;TZID=Europe/Berlin:20250824T150000
DTSTAMP:20260421T110116
CREATED:20250328T101101Z
LAST-MODIFIED:20250708T081134Z
UID:23927-1756029600-1756047600@weingut-schuh.de
SUMMARY:Breakfast Club by SCHUH -ausgebucht-
DESCRIPTION:Daydrinking auf der Picknickdecke im Klausenberg! \nPacke DEINE Picknickdecke ein und genieße ein unvergessliches Frühstückserlebnis mit 4-Gäng-Frühstücksmenü in unserer Monopollage Klausenberg. Frühstücksklassiker wie Egg Benedikt und French Toast holt Ihr euch direkt bei Aaron & Basti und sucht euch ein schönes Plätzchen im Weinberg auf eurer Picknickdecke oder auf unserer Sonnenterasse. Wir versorgen euch mit exklusivem Vino und DJ Moritz Schlieb sorgt für lazy\, sunny Feelgoodvibes. \n10 Uhr Treffpunkt: Domprobstberg\, mit anschließendem kurzen Aufstieg\nab 10:00 Uhr geöffnet I 11:00 Uhr Start des Frühstücks I Parken nur bis Domprobstberg\nPreis: 69 € pro Person für Menü\, inkl. Kaffee & Aperitif \nTickets ab 14. April im Vorverkauf über unseren Onlineshop
URL:https://weingut-schuh.de/event/breakfast-club-by-schuh/
LOCATION:Meißner Klausenberg
CATEGORIES:Ausschank
ATTACH;FMTTYPE=image/png:https://weingut-schuh.de/wp-content/uploads/2025/03/Breakfast-Club-by-Schuh.png
END:VEVENT
BEGIN:VEVENT
DTSTART;TZID=Europe/Berlin:20250428T113000
DTEND;TZID=Europe/Berlin:20250504T190000
DTSTAMP:20260421T110116
CREATED:20250318T082853Z
LAST-MODIFIED:20250318T082853Z
UID:23831-1745839800-1746385200@weingut-schuh.de
SUMMARY:Meißner Weinpavillon
DESCRIPTION:Wir starten die Wein-Pavillon-Saison 2025! \nBesucht uns vom 28. April bis 4. Mai im einzigartigen Wein-Pavillon auf dem Marktplatz in Meißen. \nGenießt unsere erlesenen Weine in diesem besonderen Ambiente. \nTäglich von 11:30 Uhr bis 19:00 Uhr freuen wir uns darauf euch den sächsischen Weingenuss näher zu bringen.
URL:https://weingut-schuh.de/event/meissner-weinpavillon/
LOCATION:Marktplatz Meissen\, Markt\, Meißen\, 01662\, Deutschland
CATEGORIES:Ausschank
ATTACH;FMTTYPE=image/jpeg:https://weingut-schuh.de/wp-content/uploads/2025/03/Weinpavillon-20244.jpg
END:VEVENT
BEGIN:VEVENT
DTSTART;TZID=Europe/Berlin:20240607T180000
DTEND;TZID=Europe/Berlin:20240609T190000
DTSTAMP:20260421T110116
CREATED:20240124T100920Z
LAST-MODIFIED:20240125T133201Z
UID:21399-1717783200-1717959600@weingut-schuh.de
SUMMARY:WINESTOCK - Love\, Peace & Winefest 2024
DESCRIPTION:Freitag 7. Juni 2024:\nab 18 Uhr gekühlte Getränke\, frische Grillgerichte\nab 19 Uhr Livemusik mit Manuel Goldstein von naturtrüb I Dresden \nSamstag 8. Juni 2024:\nab 14 Uhr Essen\, Getränke und gute Laune\nab 16 Uhr Livemusik mit Pascal Bretschneider von Brettel Musik I Dresdenab 19:30 Uhr Livemusik mit Die Winestocker I Meißen\n(Meißner Gartenband im Woodstock Fieber) \nSonntag 9. Juni 2024:\nab 13 Uhr Flammkuchen Essen\, Getränke und gute Laune\ndas Wochenende bei Kaffee und Kuchen ausklingen lassen\nab 14 Uhr Workshop: Blumenkopfkränze binden mit Janett von der Gärtnerei Damme (Unkostenbeitrag 10 €)\n14 – 17 Uhr Reggae mit den Looney Roots I Neubrandenburg\nFestende gegen 19 Uhr\nKulturbeitrag / Vorverkauf oder Abendkasse von Festbändchen gegen 5 € für alle Tage
URL:https://weingut-schuh.de/event/winestock-love-peace-winefest-2024/
LOCATION:Hof der Vinothek\, Zaschendorfer Straße 2\, Sörnewitz\, Sachsen\, Deutschland
CATEGORIES:Ausschank
ATTACH;FMTTYPE=image/jpeg:https://weingut-schuh.de/wp-content/uploads/2024/01/Winestock-Aufkleber-2024.jpg
END:VEVENT
BEGIN:VEVENT
DTSTART;TZID=Europe/Berlin:20230701T140000
DTEND;TZID=Europe/Berlin:20230701T200000
DTSTAMP:20260421T110116
CREATED:20230313T142325Z
LAST-MODIFIED:20230313T142325Z
UID:18950-1688220000-1688241600@weingut-schuh.de
SUMMARY:Wine Speed Dating
DESCRIPTION:DIE JAHRGANGSPRÄSENTATION IM WEINGUT SCHUH\n 1. JULI 2023\n 14–20 Uhr exklusive Verkostung des aktuellen Jahrgangs und gereiften Raritäten\n 4 Slots mit limitierter Personenzahl\n Buche dir deine Zeit mit deinen Lieblingsweinen\, komme mit uns ins Gespräch und verbringe einen entspannten und genussvollen Tag auf unserem Hof.\n\nIm Anschluss kannst du dich von 18 bis 22 Uhr auf das zweite Date mit deinem Lieblingswein freuen. Für passende Beats sorgt DJ Pauli aus Dresden. Außerhalb der Verkostung sorgt das Team von Gräfes Wein & Fein ab 14 Uhr für kulinarische Genüsse
URL:https://weingut-schuh.de/event/wine-speed-dating/
LOCATION:Hof der Vinothek\, Zaschendorfer Straße 2\, Sörnewitz\, Sachsen\, Deutschland
CATEGORIES:Ausschank
ATTACH;FMTTYPE=image/png:https://weingut-schuh.de/wp-content/uploads/2023/03/wine-speed-dating.png
END:VEVENT
BEGIN:VEVENT
DTSTART;TZID=Europe/Berlin:20221119T173000
DTEND;TZID=Europe/Berlin:20221119T220000
DTSTAMP:20260421T110116
CREATED:20220919T093154Z
LAST-MODIFIED:20220921T102358Z
UID:15698-1668879000-1668895200@weingut-schuh.de
SUMMARY:Große Glühweinverkostung - unser Highlight!
DESCRIPTION:Große Glühweinverkostung – unser Highlight! \nSa. 19.11.2022 18-22 Uhr\nEinlass: 17.30 Uhr\, Beginn: 18.15 Uhr\nEintrittspreis 34\,95 € pro Person (Veranstaltung im Außenbereich)\nVerkostung von mind. 6 verschiedener Glühweine und Heißgetränke
URL:https://weingut-schuh.de/event/grosse-gluehweinverkostung-unser-highlight/
LOCATION:Flack’s GetränkeFeinkost & Vinothek\, Hoflößnitzstraße3\, Radebeul\, Sachsen\, 01445\, Deutschland
CATEGORIES:Ausschank
END:VEVENT
BEGIN:VEVENT
DTSTART;TZID=Europe/Berlin:20210719T100000
DTEND;TZID=Europe/Berlin:20210725T200000
DTSTAMP:20260421T110116
CREATED:20210311T095135Z
LAST-MODIFIED:20220502T120611Z
UID:6798-1626688800-1627243200@weingut-schuh.de
SUMMARY:Weinpavillon auf dem Marktplatz Meißen
DESCRIPTION:Eine Woche lang präsentieren wir unsere Weine im Pavillon auf dem Meißner Marktplatz. Wir freuen uns\, euch dort zu treffen und euch auschenken zu dürfen.
URL:https://weingut-schuh.de/event/weinpavillon-auf-dem-marktplatz-meissen/
LOCATION:Marktplatz Meissen\, Markt\, Meißen\, 01662\, Deutschland
CATEGORIES:Ausschank
END:VEVENT
END:VCALENDAR