BEGIN:VCALENDAR
VERSION:2.0
PRODID:-// - ECPv6.15.20//NONSGML v1.0//EN
CALSCALE:GREGORIAN
METHOD:PUBLISH
X-ORIGINAL-URL:https://weingut-schuh.de
X-WR-CALDESC:Events for 
REFRESH-INTERVAL;VALUE=DURATION:PT1H
X-Robots-Tag:noindex
X-PUBLISHED-TTL:PT1H
BEGIN:VTIMEZONE
TZID:Europe/Berlin
BEGIN:DAYLIGHT
TZOFFSETFROM:+0100
TZOFFSETTO:+0200
TZNAME:CEST
DTSTART:20210328T010000
END:DAYLIGHT
BEGIN:STANDARD
TZOFFSETFROM:+0200
TZOFFSETTO:+0100
TZNAME:CET
DTSTART:20211031T010000
END:STANDARD
BEGIN:DAYLIGHT
TZOFFSETFROM:+0100
TZOFFSETTO:+0200
TZNAME:CEST
DTSTART:20220327T010000
END:DAYLIGHT
BEGIN:STANDARD
TZOFFSETFROM:+0200
TZOFFSETTO:+0100
TZNAME:CET
DTSTART:20221030T010000
END:STANDARD
BEGIN:DAYLIGHT
TZOFFSETFROM:+0100
TZOFFSETTO:+0200
TZNAME:CEST
DTSTART:20230326T010000
END:DAYLIGHT
BEGIN:STANDARD
TZOFFSETFROM:+0200
TZOFFSETTO:+0100
TZNAME:CET
DTSTART:20231029T010000
END:STANDARD
END:VTIMEZONE
BEGIN:VEVENT
DTSTART;TZID=Europe/Berlin:20220827T140000
DTEND;TZID=Europe/Berlin:20220828T190000
DTSTAMP:20260422T014646
CREATED:20220720T131151Z
LAST-MODIFIED:20220801T070644Z
UID:13237-1661608800-1661713200@weingut-schuh.de
SUMMARY:Tage des offenen Weingutes 2022
DESCRIPTION:Zum 23. Mal finden am letzten Augustwochenende die Tage des offenen Weingutes statt\, natürlich sind auch wir wieder mit dabei!\nBei uns findet Ihr an beiden Tagen jeweils von 14 – 19 Uhr beschwingte Stimmung bei Dixie und Jazz mit Livemusik von “Swing Along” aus Weinböhla. \nJeweils um 15 Uhr könnt ihr Matthias bei einem kleinen Betriebsrundgang über die Schulter schauen. \nMartina und ihr Team sorgen für die kulinarische Versorgung und Katharina\, Matthias und das ganze Schuh-Team für die vollen Gläser. \nDas Programm aller Winzer findet ihr hier: www.dresden-elbland.de/programm-offenes-weingut \nFür eine einfache Anreise findet ihr hier alle Teilnehmer vermerkt: \n \nHier sind alle Teilnehmer sowie Haltestellen des Sonderbusses\, aber auch andere Anreisemöglichkeiten mit dem ÖPNV eingezeichnet.
URL:https://weingut-schuh.de/event/tage-des-offenen-weingutes-2022/
LOCATION:Weingut Schuh\, Zaschendorfer Straße 2\, Sörnewitz\, 01640
END:VEVENT
END:VCALENDAR