BEGIN:VCALENDAR
VERSION:2.0
PRODID:-// - ECPv6.15.20//NONSGML v1.0//EN
CALSCALE:GREGORIAN
METHOD:PUBLISH
X-ORIGINAL-URL:https://weingut-schuh.de
X-WR-CALDESC:Events for 
REFRESH-INTERVAL;VALUE=DURATION:PT1H
X-Robots-Tag:noindex
X-PUBLISHED-TTL:PT1H
BEGIN:VTIMEZONE
TZID:Europe/Berlin
BEGIN:DAYLIGHT
TZOFFSETFROM:+0100
TZOFFSETTO:+0200
TZNAME:CEST
DTSTART:20210328T010000
END:DAYLIGHT
BEGIN:STANDARD
TZOFFSETFROM:+0200
TZOFFSETTO:+0100
TZNAME:CET
DTSTART:20211031T010000
END:STANDARD
BEGIN:DAYLIGHT
TZOFFSETFROM:+0100
TZOFFSETTO:+0200
TZNAME:CEST
DTSTART:20220327T010000
END:DAYLIGHT
BEGIN:STANDARD
TZOFFSETFROM:+0200
TZOFFSETTO:+0100
TZNAME:CET
DTSTART:20221030T010000
END:STANDARD
BEGIN:DAYLIGHT
TZOFFSETFROM:+0100
TZOFFSETTO:+0200
TZNAME:CEST
DTSTART:20230326T010000
END:DAYLIGHT
BEGIN:STANDARD
TZOFFSETFROM:+0200
TZOFFSETTO:+0100
TZNAME:CET
DTSTART:20231029T010000
END:STANDARD
END:VTIMEZONE
BEGIN:VEVENT
DTSTART;TZID=Europe/Berlin:20220514T060000
DTEND;TZID=Europe/Berlin:20220514T113000
DTSTAMP:20260422T065305
CREATED:20171010T085858Z
LAST-MODIFIED:20220313T090439Z
UID:1492-1652508000-1652527800@weingut-schuh.de
SUMMARY:Holger's Vogelwanderung
DESCRIPTION:UNSER TIPP FÜR FRÜHAUSSTEHER UND NATURFREUNDE! \nStartet zusammen mit unserem Winzermeister und Hobbyornithologe Holger Horter zu einem Ausflug in die faszinierende heimische Vogelwelt und lernt dabei die Natur unserer Weinberge kennen. Während der Wanderung werden drei Weine verkostet. Die Entdeckungstour führt rund sechs Kilometer durch das Landschaftsschutzgebiet Meißner Spaargebirge. \nLeider schon ausgebucht. Wir freuen uns auf 2023.  \n* Hinweis: In unseren Weinbergen seid ihr ganz nah an der Natur. Bitte beachtet\, dass ihr der Witterung entsprechende Kleidung und für die Wanderungen in den Steillagen festes Schuhwerk tragt. So werden die Touren für euch zu einem unvergesslichen Erlebnis. Die Angaben zur zeitlichen Länge der Angebote sind Richtwerte und stets abhängig von den Teilnehmern. Wir möchten euch einen angenehmen und stressfreien Ausflug bieten. Deshalb ist die Teilnehmerzahl begrenzt. Startpunkt der Wanderung ist unsere Vinothek\, Zaschendorfer Straße 2\, 01640 Sörnewitz.
URL:https://weingut-schuh.de/event/holgers-vogelwanderung-2/
LOCATION:Weingut Schuh\, Zaschendorfer Straße 2\, Sörnewitz\, 01640
CATEGORIES:Wanderung
ATTACH;FMTTYPE=image/jpeg:https://weingut-schuh.de/wp-content/uploads/2017/05/Holger-Horter.jpg
END:VEVENT
END:VCALENDAR